Workbook
Name imone: #REF!
Name j: Sąrašai!#REF!
Name priemone: #REF!
Name projekto_tipas: Sąrašai!$C$22
Name projekto_tipas: #REF!
Name pvm: Sąrašai!#REF!
Name pvm_tipas: Sąrašai!$C$11
Name pvm_tipas: #REF!

Sheet Instrukcija
A6: Pažymėta laukelio spalva | B6: Paaiškinimas
B7: Privalomai pildomas laukas (pildo vietos projekto pareiškėjas), suvedama prašoma informacija.
B8: Automatizuotas atsakymas, pasirenkamas vienas iš siūlomų variantų (pildo vietos projekto pareiškėjas). Siūlomas variantas pasirenkamas su dešinėje laukelio pusėje esančia rodykle.
B9: Pildomas laukas (pildo VPS vykdytoja), suvedama prašoma informacija iki kvietimo teikti vietos projektus paskelbimo dienos. Rengiant paraišką visi šios spalvos laukai turi būti užpildyti. Rekomendacija: papildomas perteklines eilutes/langelius/dalis pašalinti/užslėpti iki kvietimo.
B10: Laukas nepildomas. Skaičiavimui suvesta formulė arba tekstas.
A15: SP 2023-2027 | B15: Vietos projektų, įgyvendinamų bendruomenių inicijuotos vietos plėtros būdu, ATRANKOS KRITERIJŲ SĄVADAS
B16: Aktuali redakcija nuo 2024-03-26
B17: Atrankos kriterijai 2024 | C17: Atrankos kriterijaus aprašymų turinio pavyzdžiai/kryptys (Pasirinktas atrankos kriterijus gali būti skaidomas į kelis aprašymus. Detaliuose aprašymuose nurodomos konkrečios atrankos kriterijaus reikšmės, priskiriant balus kiekvienam aprašymui)
A18: 1 | B18: Kuriamos darbo vietos asmenims, nurodytiems aprašyme | C18: Kuriamos darbo vietos jaunimui iki 29 m. /asmeniui iki 40 metų amžiaus (imtinai)/ vyresniems nei 50/55 + asmenims / darbo vietos moterims / socialiai pažeidžiamiems/kt.
A20: 2 | B20: Kuriamų darbo vietų kaštai/skaičius | C20: Mažesni naujos darbo vietos sukūrimo kaštai/ darbo vietų skaičius ir pan.
A23: 3 | B23: Atskiros asmenų grupės įtrauktis į VP veiklą | C23: Į projekto veiklas įtraukiami asmenys pagal amžių ir/arba statusą (pasirenkama): jaunimas iki 29 m./priešpensinio amžiaus asmenys/vyresnio amžiaus žmonės/vaikai iki 15 m./socialiai pažeidžiami asmenys ir kt.
A26: 4 | B26: Atskirų asmenų grupių skaičiaus įtrauktis į VP veiklą | C26: Į projekto veiklas įtraukiamas aprašyme nurodytas įvardintų asmenų grupių skaičius ( pvz., į projekto veiklas įtraukiama 2 arba daugiau atskiro statuso/amžiaus žmonių grupės)
A30: 5 | B30: Projekto naudos gavėjų skaičius | C30: Didesnis projekto naudos gavėjų skaičius, nurodant konkečias reikšmes arba projekto naudos gavėjų skaičius ne mažesnis/ne didesnis nei ______
A34: 6 | B34: Naudos gavėjų pobūdis/grupė | C34: Projekto naudos gavėjai yra konkreti socialinė grupė; jaunimas; vaikai; vyresnio amžiaus žmonės ir pan. (konkretus grupės skaičius gali būti nenurodomas)
A36: 7 | B36: Projekto susietumas su VVG VPS tema | C36: Projektas arba jo dalis susijęs su VVG VPS tema, nurodant VPS temą
A38: 8 | B38: Projektu prisidedama prie konkrečios srities /VVG VPS prioriteto | C38: Nurodoma konkreti sritis, prie kurios prisidedama projektu (veiklomis/investicijomis): aplinkosaugos/žaliojo kurso; turizmas; krašto tradicijų puoselėjims ; inovacijos;prisidėjimas prie socialinės gerovės;gyvūnų gerovės; projektu įgyvendina didesnį/nurodytą skaičių sumanaus kaimo KONKREČIŲ principų; kt.
A40: 9 | B40: Projektu prisdedama prie atsinaujinančių energijos šaltinių panaudojimo/energijos efektyvumo didinimo | C40: Kriterijaus aprašymas, kaip nurodyta VPS: projektu prisdedama prie atsinaujinančių energijos šaltinių panaudojimo/energijos efektyvumo didinimo ar pan.
A42: 10 | B42: Projekte numatomas tvarus/antrinis daiktų /žaliavų/atliekų/ panaudojimas arba skatinamas tvarumas | C42: Aprašomas atrankos reikalavimas dėl projekte numatomo tvarumo/antrinis daiktų /žaliavų/atliekų/ panaudojimo arba tvarrumo skatinamo.
A44: 11 | B44: Projekte derinamos investicijos ir veiklos | C44: Kriterijaus aprašyme nurodoma kokios investicijos ir veiklos derinamos projekte, pvz., derinamos „kietosios“ investicijos ir „minkštosios“ tęstinės veiklos, kai pastarosioms nėra skiriama parama ir pan.
A46: 12 | B46: Projektu kuriamos/diegiamos inovacijos | C46: Aprašomi atrankos reikalavimai inovacijoms, pvz., projektu numatoma diegti inovacijas VVG svarbios teritorijos/seniūnijos lygiu. PAPILDYTA: atrankos kriterijai inovatyvumo vertinimui pagal inovatyvumo metodiką 3D-181 gali būti formuluojami skiriant balus už projekto inovatyvumo lygį. https://e-seimas.lrs.lt/portal/legalAct/lt/TAD/fc669af2ca8411ed9b3c9397e1236c2a?jfwid=fhhu5mmk9
... A78: 24 | B78: Kita (Laisvai pasirenkama kriterijaus apibrėžtis) | C78: Laisvai pasirenkamas kriterijaus aprašymas

Sheet 1-2l_Titulinis
B1: Pavyzdinė vietos projekto paraiškos, teikiamos pagal kaimo vietovių VPS, forma
K3: Nr. FR-2154
D5: (pareiškėjo pavadinimas)
E8: (sudarymo vieta)
B9: VIETOS PROJEKTO PARAIŠKA
B10: VPS 4 priemonės „Aplinkai palankaus smulkaus verslo kūrimas ir plėtra“
E13: (data)
B15: Šalčininkų rajono vietos veiklos grupė
C16: (VVG, kuriai teikiama vietos projekto paraiška pavadinimas)
A18: 1. | B18: BENDRA INFORMACIJA APIE PAREIŠKĖJĄ
B19: Paraiška teikiama kvietimui, kuriame tinkamais pareiškejais gali būti:
A20: 1.1 | B20: Pareiškėjas
A21: 1.2 | B21: Pareiškėjo registracijos kodas
A22: 1.3 | B22: Savivaldybės pavadinimas | E22: Šalčininkų r. savivaldybė
A23: 1.4 | B23: Seniūnijos pavadinimas
A24: 1.5 | B24: Gyvenamosios vietovės pavadinimas
A25: 1.6 | B25: Gatvės pavadinimas
A26: 1.7 | B26: Namo Nr.
A27: 1.8 | B27: Buto Nr.
A28: 1.9 | B28: Pašto indeksas
A29: 1.10 | B29: Telefono Nr.
A30: 1.11 | B30: El. paštas
A31: 1.12 | B31: Pareiškėjo banko pavadinimas
A32: 1.13 | B32: Pareiškėjo atsiskaitomosios sąskaitos numeris
A33: 1.14 | B33: Pareiškėjo vadovas
A34: 1.15 | B34: Pareiškėjo amžius (kai paraišką teikia fizinis asmuo)
... A36: 2.1 | B36: Vietos projekto pavadinimas
A37: 2.2 | B37: Informacija apie vietos projekto partnerius | E37: Ar projektas teikiamas su parneriais? Atsakymą pasirinkti iš sąrašo
E38: Jei atsakymas "Taip", pildomas laukas
A40: 2.3 | B40: Vietos projekto įgyvendinimo vieta
A41: 2.4 | B41: Planuojamas vietos projekto įgyvendinimo laikotarpis mėn.
A42: 2.5 | B42: Asmuo, atsakingas už projekto administravimą
A43: 2.6 | B43: Projekto konsultantas

Sheet 3l_VP
A2: 3. | B2: VIETOS PROJEKTO IDĖJOS APRAŠYMAS
A3: 3.1. | B3: Strategijoje numatyti privalomi reikalavimai | C3: Pagrindimas
B4: Taikomi reikalavimai (bent 1 iš alternatyvų): 1) investicijos į pažangaus (sumanaus) kaimo kūrimą, klimatą ir ekologiškumą, tvarios infrastruktūros vystymą, technologinius ir skaitmeninius sprendimus; 2) VP veiklos apima viso ir (arba) dalies žiedinės ekonomikos ciklo įgyvendinimą; 3) VP veiklos nukreiptos į tvaraus turizmo vystymą
A5: 3.2. | B5: VPS priemonės tikslas:
B6: Pagrindinis BŽŪP tikslas, kurį įgyvendina VPS priemonė: SO8. Skatinti užimtumą, augimą, lyčių lygybę, įskaitant moterų dalyvavimą ūkininkavimo veikloje, socialinę įtrauktį ir vietos plėtrą kaimo vietovėse, įskaitant žiedinę bioekonomiką ir tvarią miškininkystę. Pokytis, kurio siekiama VPS priemone: 1) Tvariai vystoma aplinka sudaro galimybes būti sveikiems, rūpintis savo sveikata, aktyviai gyventi, sportuoti, jaustis gerai tiek fiziškai, tiek psichologiškai 2) Įgyvendinamos aplinkai draugiškos iniciatyvos, paslaugos bei žmonių sąmoningumas prisideda prie artėjimo link klimatui neutralių seniūnijų, o tai kartu prisideda ir prie bendros "Žaliojo kurso strategijos" tikslo; 3) Išaugęs paslaugų skaičius poilsio, pramogų, aktyvaus laisvalaikio sektoriuose (6 naujos paslaugos).
A7: 3.3. | B7: Vietos projekto tikslas ir jo atitiktis VPS priemonės, pagal kurią yra teikiamas, tikslams:
A9: 3.4. | B9: Vietos projekto uždaviniai:
A11: 3.5. | B11: Vietos projekte numatytos veiklos kodas pagal EVRK:
A13: 3.6. | B13: Laukiami rezultatai:
A15: 3.7. | B15: Funkcijų pasidalijimas įgyvendinant vietos projektą, jei projektas teikiamas su partneriais:

Sheet 4l_S
A2: 4. | B2: INFORMACIJA APIE PAREIŠKĖJO SUTUOKTINĮ, KITUS SU PAREIŠKĖJU SUSIJUSIUS SUBJEKTUS IR RYŠĮ SU JAIS, PRIKLAUSYMĄ GRUPĖMS (lapas pildomas, kai teikiamas investicinis projektas)
A3: 4.1. | B3: Informacija apie pareiškėjo sutuoktinį (pildoma, kai pareiškėjas yra fizinis asmuo)
A4: 4.1.1 | B4: Pareiškėjo sutuoktinio vardas, pavardė
A5: 4.1.2 | B5: Pareiškėjo sutuoktinio asmens kodas
A7: 4.2 | B7: Informacija apie kitus su pareiškėju susijusius verslo subjektus ir ryšį su jais.
A8: 4.2.1 | B8: Pareiškėjo dalyvavimas (daugiau nei 50 proc.) kitų subjektų valdyme (pildoma visais atvejais) (nurodomas tų subjektų pavadinimas, kodas, pareiškėjo turimų akcijų / pajaus arba turimo turto dalis, proc.)
A9: 4.2.1.1 | B9: Ar dalyvaujate subjektų (juridinių asmenų) valdyme?
B10: Eil. Nr. | C10: Įmonės pavadinimas | H10: Įmonės kodas | I10: Turimų akcijų / pajaus dalis (proc.)
A17: 4.2.1.2 | B17: Ar turite teisę skirti ir atšaukti daugumą kitos įmonės valdymo ar priežiūros organo narių ar administracijos pareigūnų ir (arba) galimybę daryti lemiamą poveikį kitai įmonei dėl sutarčių, sudarytų su šia įmone, arba dėl šios įmonės steigimo dokumentų nuostatų?
B18: Eil. Nr. | C18: Įmonės pavadinimas | H18: Įmonės kodas | I18: Pateikiamo dokumento pavadinimas
A25: 4.2.1.3 | B25: Ar esate sudarę sutartis dėl žaliavų (pvz.: maisto produktai, mediena ir kt.) tiekimo, kurios suteikia teisę daryti lemiamą poveikį kitai įmonei?
B26: Eil. Nr. | C26: Asmens (vardas, pavardė) / įmonės pavadinimas | I26: Asmens gimimo data / įmonės kodas
A33: 4.2.1.4 | B33: Ar šiuo metu esate sudarę sutartis dėl parduodamos Jūsų produkcijos / teikiamų paslaugų, kurios suteikia teisę daryti lemiamą poveikį kitai įmonei?
B34: Eil. Nr. | C34: Asmens (vardas, pavardė) / įmonės pavadinimas | I34: Asmens gimimo data / įmonės kodas
A41: 4.2.1.5 | B41: Ar nuomojatės / naudojatės panaudos ar kitais pagrindais ir (arba) nuomojate / naudojate panaudos ar kitais pagrindais sklypą / patalpas / techniką / žemės ūkio paskirties žemę, kai tokia nuoma suteikia teisę daryti lemiamą poveikį kitai įmonei?
B42: Eil. Nr. | C42: Asmens (vardas, pavardė) / įmonės pavadinimas | I42: Asmens gimimo data / įmonės kodas
A49: 4.2.2 | B49: Subjektai, dalyvaujantys pareiškėjo valdyme (daugiau nei 50 proc.) (pildoma, kai pareiškėjas juridinis asmuo) (nurodomas tų subjektų vardas, pavardė arba pavadinimas, kodas ir turimų akcijų / pajaus arba turto dalis (proc.)
A50: 4.2.2.1 | B50: Ar dalyvauja kiti subjektai pareiškėjo (juridinio asmens) valdyme?
B51: Eil. Nr. | C51: Asmens (vardas, pavardė) / Įmonės pavadinimas | H51: Asmens gimimo data / Įmonės kodas | I51: Turimų akcijų / pajaus dalis (proc.)
A58: 4.2.2.2 | B58: Ar turi teisę kiti subjektai skirti ir atšaukti daugumą pareiškėjo įmonės valdymo ar priežiūros organo narių ar administracijos pareigūnų ir (arba) galimybę daryti lemiamą poveikį pareiškėjo įmonei dėl sutarčių, sudarytų su įmone, arba dėl įmonės steigimo dokumentų nuostatų?
B59: Eil. Nr. | C59: Asmens (vardas, pavardė) / Įmonės pavadinimas | H59: Asmens gimimo data / Įmonės kodas | I59: Pateikiamo dokumento pavadinimas
A67: 4.3 | B67: Informacija apie pareiškėjo atitiktį labai mažos, mažos ar vidutinės įmonės apibrėžčiai. (pildoma, kai pareiškėjas juridinis asmuo)
B68: Pateikiama informacija | G68: Ataskaitiniais metais | I68: Einamaisiais metais
B69: Darbuotojų skaičius (vnt.)
B70: Metinės pajamos (Eur)
B71: Ūkio turto vertė (Eur)
A73: 4.4 | B73: Informacija apie pareiškėjo priklausymą grupėms. (pildoma, kai pareiškėjas juridinis asmuo) Pagal Administravimo taisykles pareiškėjas turi pateikti informaciją apie priklausymą grupėms kaip nurodyta Reglamento (ES) 2021/2116 59 str. 4 d. ir Reglamento (ES) 2022/128 44 str. Šie duomenys kartu su kita informacija bus viešai skelbiami pagal Reglamento (ES) 2021/2116 98 str.
A74: 4.4.1 | B74: Ar priklausote įmonių grupei kaip nurodyta Lietuvos Respublikos įmonių grupių konsoliduotosios atskaitomybė įstatyme ?
B75: Patronuojančiosios įmonės pavadinimas | I75: Patronuojančiosios įmonės kodas

Sheet 5I_AK
A2: 5. | B2: VIETOS PROJEKTO ATITIKTIS VIETOS PROJEKTŲ ATRANKOS KRITERIJAMS
A3: Eil. Nr | B3: Vietos projektų atrankos kriterijus | C3: Didžiausias galimas surinkti balų skaičius | D3: Taip / Ne | E3: Vietos projekto atitikties vietos projektų atrankos kriterijui pagrindimas | F3: Patikrinamumas | G3: Kontroliuojamumas
A4: Iš viso balų | D4: =SUMIF(D6:D78, "Taip", C6:C78) -> 0
A5: 5.1. | B5: Modernių arba skaitmeninių technologijų panaudojimas. Projekto metu skatinamas išmaniųjų, skaitmeninių poilsio ir paslaugų infrastruktūros plėtrą | F5: Vertinama pagal paraiškoje nurodytą informaciją (3.1 -3.5 punktus) ir verslo plane 2.1.1.1.-2.1.1.3 punktuose pateikta informacija. | G5: Atitiktis atrankos kriterijui nustatoma mokėjimo prašymų/ įgyvendinimo ataskaitų vertinimo metu, pagal vietos projekto vykdytojo pateiktus duomenis ir/arba pridedamus dokumentus. Kontrolės metu tikrinama ar išlaikomas modernių ar skaitmeninių technologijų panaudojimas
A6: 5.1.1. | B6: Projekto metu diegiami modernūs ir skaitmeniniai sprendimai, skirti išmanios poilsio ir paslaugų infrastruktūros plėtrai, gerinant paslaugų prieinamumą, funkcionalumą ir naudotojų patirtį. | C6: 15
A7: 5.2. | B7: VP projekte įtraukiamas vietos išteklių (gamtos, kultūros, istorijos, žmonių ir kt) panaudojimas, juos populiarinant ir panaudojant verslo kūrimo ir (arba) plėtros procese | F7: Vertinama pagal paraiškoje nurodytą informaciją (3.1 -3.5 punktus) ir ir verslo plane 2.1.1.1.-2.1.1.3 punktuose pateikta informacija. | G7: Kartu su metine ir galutine ataskaita teikiama informacija apie vykdomą veiklą ir jos kiekybinius rodiklius per metus (lankytojų skaičius)
A8: 5.2.1. | B8: Projekto veikla atitinka sąlygos: tvarios ir socialiai atsakingos ekonomikos vystymuisi būtina pasitelkti regiono patrauklumą turistams ir menininkams, stiprinti bendradarbiavimą tarp privataus ir viešojo sektoriaus, pritaikyti turizmo infrastruktūrą lankytojų poreikiams, papildomos maitinimo, apgyvendinimo, konferencinio turizmo, renginių prie lankytinų Šalčininkų rajono vietuose paslaugos | C8: 20
A9: 5.2.2. | B9: Kitą pritaikytą turizmo infrastruktūrą lankytojų poreikiams | C9: 15
A10: 5.3. | B10: Vykdomas tvarus, antrinių daiktų ir (arba) žaliavų panaudojimą skatinantis verslas | F10: Vertinama pagal paraiškoje nurodytą informaciją (3.1 -3.5 punktus) ir verslo plane pateikta informacija apie verslo idėjos dalyje ir verslo plane 2.1.1.1.-2.1.1.3 punktuose pateikta informacija. | G10: Su galutinemis ie metinemis ataskaitomis pateikiama informacija apie vykdomą antrinių žaliavų ir (arba) daiktų panaudojimą (nurodomi kiekybiniai rodikliai)
A11: 5.3.1. | B11: Vykdomas tvarus, antrinių daiktų ir (arba) žaliavų panaudojimą skatinantis verslas | C11: 20
A12: 5.4. | B12: Sukurtas didesnis darbo vietų skaičius. | F12: Vertinama pagal paraiškoje nurodytą informaciją (3.1 -3.5 punktus, 8.1.3, 8.1.4 punktus) ir verslo plane 2.1.1.1.-2.1.1.3 punktuose pateikta informacija | G12: Kartu su metine ir galutinr ataskaita teikiamos naujai sukurtų darbo vietų darbuotojų darbo sutartis, darbo laiko apskaitos, darbo užmokesčio priskaičiavimo žiniaraščiai
A13: 5.4.1. | B13: Daugiau negu 2 etatai | C13: 20
A14: 5.4.2. | B14: Sukuriamo nuo 1,1 iki 2 etatų (imtinai). | C14: 15
A15: 5.5. | B15: Vietos projekte numatytas AEI panaudojimas ir (ar) energijos efektyvumo didinimas | F15: Vertinama pagal paraiškoje nurodytą informaciją (3.1 -3.5 punktus) ir verslo plane pateikta informacija apie verslo idėjos dalyje. | G15: Kartu su metinemis ir galutinemis ataskaitomis patvirtinamas AEI panaudojimas, arba energijos efektyvumo didinimas teikiant pagrindimą įrodančias pažymas ir kt
A16: 5.5.1. | B16: AEI panaudojimas ir (ar) energijos efektyvumo didinimas Projektas numato atsinaujinančių energijos išteklių (AEI) panaudojimą ir (ar) energijos vartojimo efektyvumo didinimo priemones, siekiant sumažinti energijos sąnaudas, šiltnamio efektą sukeliančių dujų emisijas bei neigiamą poveikį aplinkai. Diegiami sprendimai prisideda prie tvaraus energijos naudojimo, didina energinį savarankiškumą ir užtikrina ilgalaikę ekonominę bei aplinkosauginę naudą vietos bendruomenei. | C16: 10
A17: 5.6. | B17: VP veiklos nėra susiję su statybų verslu ir (arba) paslaugų statybų verslui teikimu | F17: Atitiktis vietos projekto atrankos kriterijui nustatoma vietos projekto paraiškos vertinimo metu pagal pareiškėjo pateiktą Juridinių asmenų registro išrašą ir VĮ „Registrų centras“ viešos juridinių asmenų paieškos duomenis (www.registrucentras.lt) ir paraiškos 5 lentelės dalyje „Vietos projekto atitikties vietos projektų atrankos kriterijui pagrindimas“ pateiktą informaciją. | G17: Atitiktis atrankos kriterijui nustatoma mokėjimo prašymų/ įgyvendinimo ataskaitų vertinimo metu, pagal vietos projekto vykdytojo pateiktus duomenis ir/arba pridedamus dokumentus.
A18: 5.6.1. | B18: VP veiklos nėra susijusios su statybų verslu ir (ar) paslaugų teikimu statybų sektoriui. Projektas neapima statybos darbų vykdymo, statybos paslaugų teikimo ar kitų veiklų, tiesiogiai orientuotų į statybų verslo aptarnavimą. VP veiklos nukreiptos į kito pobūdžio ekonominę veiklą, nesusijusią su statybų sektoriumi. | C18: 15

Sheet 6l_FP
A2: 6. | B2: VIETOS PROJEKTO FINANSINIS PLANAS
A4: PVM išlaidų tinkamumas: | H4: Indėlis (prisidėjimas), proc. | I4: =100-I5 -> 100
B5: PVM netinkamos išlaidos (verslas, PVM mokėtojas) | H5: Paramos intensyvumas, proc
A6: Projekto tipas (ne pelno siekiantiems projektamas)
A9: Eil. Nr. | B9: Išlaidų pavadinimas | C9: Suma be PVM, Eur | D9: PVM, proc. | E9: PVM, Eur | F9: Suma su PVM, Eur | G9: Veiklų rangos išlaidos, Eur | H9: Tinkamos finansuoti išlaidos, Eur | I9: Prašoma finansuoti suma, Eur | J9: Pasirinktas išlaidų parametras | K9: Rinkos kainos pagrindimo būdas | L9: Konkretaus ūkio subjekto gaunama nauda, proc. (nurodoma investicijų dalis kiekvienam atskirai) Pildoma, kai paraiška teikiama su partneriu | N9: Planuojamų išlaidų poreikio ir kainos pagrindimas
A10: 6.1 | B10: Prekės (pildoma, kai teikiamas investicinis projektas ir įsigyjamas ilgalaikis turtas ir (arba) statybinės medžiagos) | C10: =SUM(C11:C23) -> 0 | E10: =SUM(E11:E23) -> 0 | F10: =SUM(F11:F23) -> 0 | G10: =SUM(G11:G23) -> 0 | H10: =SUM(H11:H23) -> 0 | I10: =SUM(I11:I23) -> 0 | L10: Pareiškėjo ir (ar) partnerio, įskaitant tarpininką pavadinimas ar vardas ir pavardė | M10: Gaunamos naudos proc.
A11: 6.1.1 | C11: =ROUND(F11/(1+D11/100), 2) -> 0 | E11: =F11-C11 -> 0 | H11: =IF(Sąrašai!pvm_tipas=2,$C11,$F11) -> 0 | I11: =ROUND(H11*I$5/100,2) -> 0
A12: 6.1.2 | C12: =ROUND(F12/(1+D12/100), 2) -> 0 | E12: =F12-C12 -> 0 | H12: =IF(Sąrašai!pvm_tipas=2,$C12,$F12) -> 0 | I12: =ROUND(H12*I$5/100,2) -> 0
A13: 6.1.3 | C13: =ROUND(F13/(1+D13/100), 2) -> 0 | E13: =F13-C13 -> 0 | H13: =IF(Sąrašai!pvm_tipas=2,$C13,$F13) -> 0 | I13: =ROUND(H13*I$5/100,2) -> 0
A14: 6.1.4 | C14: =ROUND(F14/(1+D14/100), 2) -> 0 | E14: =F14-C14 -> 0 | H14: =IF(Sąrašai!pvm_tipas=2,$C14,$F14) -> 0 | I14: =ROUND(H14*I$5/100,2) -> 0
A15: 6.1.5 | C15: =ROUND(F15/(1+D15/100), 2) -> 0 | E15: =F15-C15 -> 0 | H15: =IF(Sąrašai!pvm_tipas=2,$C15,$F15) -> 0 | I15: =ROUND(H15*I$5/100,2) -> 0
A16: 6.1.6 | C16: =ROUND(F16/(1+D16/100), 2) -> 0 | E16: =F16-C16 -> 0 | H16: =IF(Sąrašai!pvm_tipas=2,$C16,$F16) -> 0 | I16: =ROUND(H16*I$5/100,2) -> 0
A17: 6.1.7 | C17: =ROUND(F17/(1+D17/100), 2) -> 0 | E17: =F17-C17 -> 0 | H17: =IF(Sąrašai!pvm_tipas=2,$C17,$F17) -> 0 | I17: =ROUND(H17*I$5/100,2) -> 0
A18: 6.1.8 | C18: =ROUND(F18/(1+D18/100), 2) -> 0 | E18: =F18-C18 -> 0 | H18: =IF(Sąrašai!pvm_tipas=2,$C18,$F18) -> 0 | I18: =ROUND(H18*I$5/100,2) -> 0
A19: 6.1.9 | C19: =ROUND(F19/(1+D19/100), 2) -> 0 | E19: =F19-C19 -> 0 | H19: =IF(Sąrašai!pvm_tipas=2,$C19,$F19) -> 0 | I19: =ROUND(H19*I$5/100,2) -> 0
A20: 6.1.10 | C20: =ROUND(F20/(1+D20/100), 2) -> 0 | E20: =F20-C20 -> 0 | H20: =IF(Sąrašai!pvm_tipas=2,$C20,$F20) -> 0 | I20: =ROUND(H20*I$5/100,2) -> 0
A21: 6.1.11 | C21: =ROUND(F21/(1+D21/100), 2) -> 0 | E21: =F21-C21 -> 0 | H21: =IF(Sąrašai!pvm_tipas=2,$C21,$F21) -> 0 | I21: =ROUND(H21*I$5/100,2) -> 0
A22: 6.1.12 | C22: =ROUND(F22/(1+D22/100), 2) -> 0 | E22: =F22-C22 -> 0 | H22: =IF(Sąrašai!pvm_tipas=2,$C22,$F22) -> 0 | I22: =ROUND(H22*I$5/100,2) -> 0
A23: 6.1.13 | C23: =ROUND(F23/(1+D23/100), 2) -> 0 | E23: =F23-C23 -> 0 | H23: =IF(Sąrašai!pvm_tipas=2,$C23,$F23) -> 0 | I23: =ROUND(H23*I$5/100,2) -> 0
A24: 6.2 | B24: Darbai ir paslaugos (pildoma, kai teikiamas investicinis projektas) | C24: =SUM(C25:C34) -> 0 | E24: =SUM(E25:E34) -> 0 | F24: =SUM(F25:F34) -> 0 | G24: =SUM(G25:G34) -> 0 | H24: =SUM(H25:H34) -> 0 | I24: =SUM(I25:I34) -> 0
A25: 6.2.1 | C25: =ROUND(F25/(1+D25/100), 2) -> 0 | E25: =F25-C25 -> 0 | H25: =IF(Sąrašai!pvm_tipas=2,$C25,$F25) -> 0 | I25: =ROUND(H25*I$5/100,2) -> 0
A26: 6.2.2 | C26: =ROUND(F26/(1+D26/100), 2) -> 0 | E26: =F26-C26 -> 0 | H26: =IF(Sąrašai!pvm_tipas=2,$C26,$F26) -> 0 | I26: =ROUND(H26*I$5/100,2) -> 0
A27: 6.2.3 | C27: =ROUND(F27/(1+D27/100), 2) -> 0 | E27: =F27-C27 -> 0 | H27: =IF(Sąrašai!pvm_tipas=2,$C27,$F27) -> 0 | I27: =ROUND(H27*I$5/100,2) -> 0
A28: 6.2.4 | C28: =ROUND(F28/(1+D28/100), 2) -> 0 | E28: =F28-C28 -> 0 | H28: =IF(Sąrašai!pvm_tipas=2,$C28,$F28) -> 0 | I28: =ROUND(H28*I$5/100,2) -> 0
A29: 6.2.5 | C29: =ROUND(F29/(1+D29/100), 2) -> 0 | E29: =F29-C29 -> 0 | H29: =IF(Sąrašai!pvm_tipas=2,$C29,$F29) -> 0 | I29: =ROUND(H29*I$5/100,2) -> 0
A30: 6.2.6 | C30: =ROUND(F30/(1+D30/100), 2) -> 0 | E30: =F30-C30 -> 0 | H30: =IF(Sąrašai!pvm_tipas=2,$C30,$F30) -> 0 | I30: =ROUND(H30*I$5/100,2) -> 0
A31: 6.2.7 | C31: =ROUND(F31/(1+D31/100), 2) -> 0 | E31: =F31-C31 -> 0 | H31: =IF(Sąrašai!pvm_tipas=2,$C31,$F31) -> 0 | I31: =ROUND(H31*I$5/100,2) -> 0
A32: 6.2.8 | C32: =ROUND(F32/(1+D32/100), 2) -> 0 | E32: =F32-C32 -> 0 | H32: =IF(Sąrašai!pvm_tipas=2,$C32,$F32) -> 0 | I32: =ROUND(H32*I$5/100,2) -> 0
A33: 6.2.9 | C33: =ROUND(F33/(1+D33/100), 2) -> 0 | E33: =F33-C33 -> 0 | H33: =IF(Sąrašai!pvm_tipas=2,$C33,$F33) -> 0 | I33: =ROUND(H33*I$5/100,2) -> 0
A34: 6.2.10 | C34: =ROUND(F34/(1+D34/100), 2) -> 0 | E34: =F34-C34 -> 0 | H34: =IF(Sąrašai!pvm_tipas=2,$C34,$F34) -> 0 | I34: =ROUND(H34*I$5/100,2) -> 0
A35: 6.3 | B35: Prekės, priemonės ir paslaugos sunaudojamos projekto metu (pildoma kai teikiamas veiklos arba mokymo projektas) | C35: =SUM(C36:C45) -> 0 | E35: =SUM(E36:E45) -> 0 | F35: =SUM(F36:F45) -> 0 | G35: =SUM(G36:G45) -> 0 | H35: =SUM(H36:H45) -> 0 | I35: =SUM(I36:I45) -> 0
A36: 6.3.1 | C36: =ROUND(F36/(1+D36/100), 2) -> 0 | E36: =F36-C36 -> 0 | H36: =IF(Sąrašai!pvm_tipas=2,$C36,$F36) -> 0 | I36: =ROUND(H36*I$5/100,2) -> 0
A37: 6.3.2 | C37: =ROUND(F37/(1+D37/100), 2) -> 0 | E37: =F37-C37 -> 0 | H37: =IF(Sąrašai!pvm_tipas=2,$C37,$F37) -> 0 | I37: =ROUND(H37*I$5/100,2) -> 0
A38: 6.3.3 | C38: =ROUND(F38/(1+D38/100), 2) -> 0 | E38: =F38-C38 -> 0 | H38: =IF(Sąrašai!pvm_tipas=2,$C38,$F38) -> 0 | I38: =ROUND(H38*I$5/100,2) -> 0
A39: 6.3.4 | C39: =ROUND(F39/(1+D39/100), 2) -> 0 | E39: =F39-C39 -> 0 | H39: =IF(Sąrašai!pvm_tipas=2,$C39,$F39) -> 0 | I39: =ROUND(H39*I$5/100,2) -> 0
A40: 6.3.5 | C40: =ROUND(F40/(1+D40/100), 2) -> 0 | E40: =F40-C40 -> 0 | H40: =IF(Sąrašai!pvm_tipas=2,$C40,$F40) -> 0 | I40: =ROUND(H40*I$5/100,2) -> 0
A41: 6.3.6 | C41: =ROUND(F41/(1+D41/100), 2) -> 0 | E41: =F41-C41 -> 0 | H41: =IF(Sąrašai!pvm_tipas=2,$C41,$F41) -> 0 | I41: =ROUND(H41*I$5/100,2) -> 0
A42: 6.3.7 | C42: =ROUND(F42/(1+D42/100), 2) -> 0 | E42: =F42-C42 -> 0 | H42: =IF(Sąrašai!pvm_tipas=2,$C42,$F42) -> 0 | I42: =ROUND(H42*I$5/100,2) -> 0
A43: 6.3.8 | C43: =ROUND(F43/(1+D43/100), 2) -> 0 | E43: =F43-C43 -> 0 | H43: =IF(Sąrašai!pvm_tipas=2,$C43,$F43) -> 0 | I43: =ROUND(H43*I$5/100,2) -> 0
A44: 6.3.9 | C44: =ROUND(F44/(1+D44/100), 2) -> 0 | E44: =F44-C44 -> 0 | H44: =IF(Sąrašai!pvm_tipas=2,$C44,$F44) -> 0 | I44: =ROUND(H44*I$5/100,2) -> 0
A45: 6.3.10 | C45: =ROUND(F45/(1+D45/100), 2) -> 0 | E45: =F45-C45 -> 0 | H45: =IF(Sąrašai!pvm_tipas=2,$C45,$F45) -> 0 | I45: =ROUND(H45*I$5/100,2) -> 0
A46: 6.4 | B46: Bendrosios išlaidos | C46: =SUM(C47:C50) -> 0 | E46: =SUM(E47:E50) -> 0 | F46: =SUM(F47:F50) -> 0 | G46: =SUM(G47:G50) -> 0 | H46: =SUM(H47:H50) -> 0 | I46: =SUM(I47:I50) -> 0
A47: 6.4.1 | B47: Projekto viešinimas | C47: =ROUND(F47/(1+D47/100), 2) -> 0 | E47: =F47-C47 -> 0 | G47: =IF(Sąrašai!pvm_tipas=2,$C47,$F47) -> 0 | H47: =IF(Sąrašai!pvm_tipas=2,$C47,$F47) -> 0 | I47: =ROUND(H47*I$5/100,2) -> 0
A48: 6.4.2 | B48: Verslo plano parengimas | C48: =ROUND(F48/(1+D48/100), 2) -> 0 | E48: =F48-C48 -> 0 | G48: =IF(Sąrašai!pvm_tipas=2,$C48,$F48) -> 0 | H48: =IF(Sąrašai!pvm_tipas=2,$C48,$F48) -> 0 | I48: =ROUND(H48*I$5/100,2) -> 0
A49: 6.4.3 | B49: Techninis projektas | C49: =ROUND(F49/(1+D49/100), 2) -> 0 | E49: =F49-C49 -> 0 | G49: =IF(Sąrašai!pvm_tipas=2,$C49,$F49) -> 0 | H49: =IF(Sąrašai!pvm_tipas=2,$C49,$F49) -> 0 | I49: =ROUND(H49*I$5/100,2) -> 0
A50: 6.4.4 | C50: =ROUND(F50/(1+D50/100), 2) -> 0 | E50: =F50-C50 -> 0 | H50: =IF(Sąrašai!pvm_tipas=2,$C50,$F50) -> 0 | I50: =ROUND(H50*I$5/100,2) -> 0
A51: 6.5 | B51: Įnašas natūra | C51: =SUM(C52:C53) -> 0 | E51: =SUM(E52:E53) -> 0 | F51: =SUM(F52:F53) -> 0 | G51: =SUM(G52:G53) -> 0 | H51: =SUM(H52:H53) -> 0 | I51: =SUM(I52:I53) -> 0
A52: 6.5.1 | B52: Nemokamas savanoriškas darbas | C52: =ROUND(F52/(1+D52/100), 2) -> 0 | D52: 0 | E52: =F52-C52 -> 0 | G52: 0 | H52: =IF(Sąrašai!pvm_tipas=2,$C52,$F52) -> 0 | I52: =ROUND(H52*I$5/100,2) -> 0
A53: 6.5.2 | B53: Nekilnojamas turtas | C53: =ROUND(F53/(1+D53/100), 2) -> 0 | D53: 0 | E53: =F53-C53 -> 0 | G53: =IF(Sąrašai!pvm_tipas=2,$C53,$F53) -> 0 | H53: =IF(Sąrašai!pvm_tipas=2,$C53,$F53) -> 0 | I53: =ROUND(H53*I$5/100,2) -> 0
A54: 6.6 | B54: Iš viso tiesioginių išlaidų, Eur | C54: =SUM(C10,C24,C35,C46,C51) -> 0 | E54: =SUM(E10,E24,E35,E46,E51) -> 0 | F54: =SUM(F10,F24,F35,F46,F51) -> 0 | G54: =SUM(G10,G24,G35,G46,G51) -> 0 | H54: =SUM(H10,H24,H35,H46,H51) -> 0 | I54: =SUM(I10,I24,I35,I46,I51) -> 0
A55: 6.6.1 | B55: Veiklų rangos išlaidų dalis (nuo visų tiesioginių projekto išlaidų), proc. | G55: =IFERROR(ROUND(G54/H54*100, 2),) -> 0
A56: 6.6.2 | B56: Galima fiksuotoji norma, skaičiuojant tik nuo tiesioginių išlaidų, proc. | G56: =IF(AND(H54<=85000,G55<=90),24,IF(AND(H54>85001,H54<=175000,G55>60,G55<=90),21,IF(AND(H54>85001,H54<=175000,G55<=60),24,IF(AND(H54>175001,G55<=90),19,12)))) -> 24
A57: 6.7 | B57: Fiksuotoji norma netiesioginėms išlaidoms apmokėti, proc.
A58: 6.8 | B58: Netiesioginės išlaidos, Eur | C58: =+C54*$G$57/100 -> 0 | E58: =+E54*$G$57/100 -> 0 | F58: =+F54*$G$57/100 -> 0 | H58: =+H54*$G$57/100 -> 0 | I58: =+I54*$G$57/100 -> 0
A59: 6.9 | B59: IŠ VISO TINKAMŲ IŠLAIDŲ, Eur | C59: =+C54+C58 -> 0 | E59: =+E54+E58 -> 0 | F59: =+F54+F58 -> 0 | H59: =+H54+H58 -> 0 | I59: =+I54+I58 -> 0
B61: Perspėjimai:
B62: =IF(F54=0, "-", IF(OR(F46/(F54-F46)>0.1, AND(C46>1800, C24=0)), "Bendrųjų išlaidų suma turi būti ne daugiau kaip 10 proc. arba 1800 Eur be PVM", IF(OR(F46/(F54-F46)>0.1, C46>3000), "Bendrųjų išlaidų suma turi būti ne daugiau kaip 10 proc. arba 3000 Eur be PVM", "-"))) -> -
B63: =IF(AND(G57>0,F46>0),"Bendrosios išlaidos, išskyrus viešinimo išlaidas, nėra tinkamos finansuoti","-") -> -
B64: =IF(AND(F35>0,F47>0),"Bendrosios išlaidos, išskyrus viešinimo išlaidas, nėra tinkamos finansuoti","-") -> -
B65: =IF(AND(F36>0,F48>0),"Bendrosios išlaidos, išskyrus viešinimo išlaidas, nėra tinkamos finansuoti","-") -> -
B66: =IF(AND(F37>0,F49>0),"Bendrosios išlaidos, išskyrus viešinimo išlaidas, nėra tinkamos finansuoti","-") -> -
B67: =IF(G57<=G56,"-","Per didelis prašomas netiesioginių išlaidų proc.") -> -
A69: Pastabos:
A70: 1) 4.1, 5.2 eilutėse nurodytos išlaidos visais atvejais priskiriamos veiklų rangos išlaidoms.
A71: 2) Jeigu veiklų rangos išlaidų dalis (nuo visų tiesioginių vietos projekto išlaidų) lygi 100 proc., nurodykite, ar vietos projekto administravimą (kuris apmokamas iš netiesioginių išlaidų):
A72: - iš dalies ar visa apimtimi atliks pareiškėjas ar vietos projekto partneris (šiuo atveju vietos projekto netiesioginės išlaidos apmokamos taikant fiksuotąją normą, išlaidų pagrindimo ir išlaidų apmokėjimo įrodymo dokumentai neteikiami);
A73: - visa apimtimi atliks trečioji šalis (paslaugų tiekėjas) (šiuo atveju vietos projekto netiesioginės išlaidos grindžiamos išlaidų pagrindimo ir išlaidų apmokėjimo įrodymo dokumentais ir apmokamos pagal neviršijant 8 eilutėje nustatytos netiesioginių vietos projekto išlaidų sumos).

Sheet 7l_FŠ
A2: 7. | B2: FINANSAVIMO ŠALTINIAI
A3: 7.1 | B3: Planuojamų patirti išlaidų suma su PVM (nepritaikius paramos lyginamosios dalies), Eur | E3: ='6l_FP'!F59 -> 0 | G3: EŽŪFKP, Lietuvos Respublikos valstybės biudžeto lėšos ir nuosavas indėlis
A4: 7.2 | B4: Taikoma intensyvumo norma, proc. | E4: =+'6l_FP'!I5 -> 0
A5: 7.3 | B5: Prašoma paramos vietos projektui įgyvendinti suma, Eur | E5: ='6l_FP'!I59 -> 0 | G5: EŽŪFKP, Lietuvos Respublikos valstybės biudžeto lėšos
A6: 7.4 | B6: Vietos projekto finansavimo šaltinis ir suma, Eur | E6: Taip / Ne | F6: Finansavimo šaltinis | J6: Suma, Eur | K6: Finansavimo šaltinio užtikrinimo pagrįstymas
F7: pareiškėjo nuosavos piniginės lėšos arba savivaldybės biudžeto lėšos (kai taikoma)
F8: tinkamo vietos projekto partnerio nuosavos piniginės lėšos
F9: pareiškėjo skolintos lėšos
F10: pareiškėjo įnašas natūra – savanoriškais darbais | J10: ='6l_FP'!I52-J12 -> 0
F11: pareiškėjo įnašas natūra – nekilnojamuoju turtu | J11: ='6l_FP'!I53 -> 0
F12: tinkamo vietos projekto partnerio įnašas natūra – savanoriškais darbais
F13: tinkamo vietos projekto partnerio įnašas natūra – nekilnojamuoju turtu
F14: pareiškėjo iš vietos projekte numatytos vykdyti veiklos gautinos lėšos
F15: gautinos paramos lėšos, kai vietos projektas įgyvendinamas ne vienu etapu
E16: Iš viso | I16: =SUM(J7:J15) -> 0
A17: 7.5 | B17: Išlaidų mokėjimo būdas

Sheet 8l_R
A2: 8. | B2: VIETOS PROJEKTO PASIEKIMŲ RODIKLIAI
B4: Rodiklio Nr. | C4: Rodiklio pavadinimas | D4: Rodiklio skaičiavimo metodika | E4: Matavimo vnt. | F4: Taip / Ne | G4: Įsipareigojama vietos projekto įgyvendinimo metu pasiekti ir kontrolės laikotarpiu išlaikyti rodiklio reikšmę | H4: Klaidų tikrinimas
A5: 8.1 | B5: ES bendrieji rezultato rodikliai
A6: 8.1.1 | B6: R.3 | C6: Žemės ūkio sektoriaus skaitmeninimas. Ūkių, pagal BŽŪP gaunančių paramą skaitmeninėms ūkininkavimo technologijoms plėtoti, skaičius | D6: Ūkiai ir ūkininkai, gavę paramą skaitmeninėms technologijoms diegti. | E6: vnt.
A7: 8.1.2 | B7: R.3 | C7: Žemės ūkio sektoriaus skaitmeninimas. Ūkių, pagal BŽŪP gaunančių paramą skaitmeninėms ūkininkavimo technologijoms plėtoti, skaičius | D7: Fiziniai asmenys (ūkininkai ir ne tik), dalyvavę skaitmeninių gebėjimų ugdymo žemės ūkyje mokymuose. | E7: vnt.
A8: 8.1.3 | B8: R.37 | C8: Ekonomikos augimas ir darbo vietų kūrimas kaimo vietovėse. BŽŪP projektais remiamas naujų darbo vietų kūrimas: | D8: Naujai sukurtų darbo vietų skaičius (sukurtų darbo vietų skaičius turi būti išlaikomas iki vietos projekto kontrolės pabaigos) Jei rodiklis nėra susijęs su atrankos kriterijais, pareiškėjas pats pasirenka rodiklio reikšmę atitinkamoje eilutėje | E8: etatai | G8: =G9 -> 0
B9: R.37.1 | C9: Sukurtų darbo vietų skaičius pagal lytį | D9: Jei kuriamos naujos darbo vietos, jos paskirtomos pagal lytį, jei kuriamos darbo vietos pagal lytį neskirtomos, pildomas tik R.37.1.3 p. | G9: =SUM(G10:G12) -> 0 | H9: =IF(G9=G13,"Gerai","Klaida, R.37.1 suma nesutampa su R.37.2 suma. Tikslinti R.37.1.1-R.37.1.1.3 arba R.37.2.1-R.37.2.3 stulpelius") -> Gerai
B10: R.37.1.1 | C10: Sukurtų darbo vietų skaičius moterims | E10: etatai
B11: R.37.1.2 | C11: Sukurtų darbo vietų skaičius vyrams | E11: etatai
B12: R.37.1.3 | C12: Sukurtų darbo vietų skaičius bet kurios lyties asmenims | E12: etatai
B13: R.37.2 | C13: Sukurtų darbo vietų skaičius pagal amžių | D13: Jei kuriamos naujos darbo vietos, jos paskirtomos pagal amžių, jei kuriamos darbo vietos pagal amžių neskirtomos, pildomas tik R.37.2.3 p. | G13: =G14+G15+G16+L19 -> 0 | H13: =IF(G9=G13,"Gerai","Klaida, R.37.2 suma nesutampa su R.37.1 suma. Tikslinti R.37.1.1-R.37.1.1.3 arba R.37.2.1-R.37.2.3 stulpelius") -> Gerai
B14: R.37.2.1 | C14: Sukurtų darbo vietų skaičius asmenims iki 40 m. (imtinai) | E14: etatai
B15: R.37.2.2 | C15: Sukurtų darbo vietų skaičius asmenims nuo 41 m. | E15: etatai
B16: R.37.2.3 | C16: Sukurtų darbo vietų skaičius bet kurio amžiaus asmenims | E16: etatai
A17: 8.1.4 | B17: R.39 | C17: Kaimo ekonomikos plėtojimas. Kaimo verslo įmonių, įskaitant bioekonomikos įmones, kuriamų naudojantis pagal BŽŪP skiriama parama, skaičius | D17: Naujai kuriamų verslų (juridiniai ir fiziniai asmenys, veikiantys pagal verslo liudijimus, individualios veiklos pažymas) kaime skaičius. Rodiklis netaikomas žemės ūkio veikloms. | E17: vnt.
A18: 8.1.5 | B18: R.39 | C18: Kaimo ekonomikos plėtojimas. Kaimo verslo įmonių, įskaitant bioekonomikos įmones, kuriamų naudojantis pagal BŽŪP skiriama parama, skaičius | D18: Plėtojamų verslų (juridiniai ir fiziniai asmenys, veikiantys pagal verslo liudijimus, individualios veiklos pažymas) kaime skaičius. Rodiklis netaikomas žemės ūkio veikloms. | E18: vnt.
A19: 8.1.6 | B19: R.41 | C19: Europos kaimo tinklų kūrimas. Kaimo gyventojų, kuriems, naudojantis BŽŪP parama, sudarytos palankesnės sąlygos naudotis paslaugomis ir infrastruktūra, skaičius | D19: Galutinių naudos gavėjų skaičius | E19: Naudos gavėjų teritorija ir vnt.
A20: 8.1.7 | B20: R.42 | C20: Socialinės įtraukties skatinimas. Asmenų, kuriems taikomi remiami socialinės įtraukties projektai, skaičius | D20: Galutinių naudos gavėjų skaičius | E20: vnt.
A21: 8.2 | B21: VPS rodikliai (produkto, rezultato)
A22: 8.2.1 | B22: P.1
A23: 8.2.2 | B23: P.2
A24: 8.2.3 | B24: ....
A25: 8.2.4 | C25: Išlaikytos darbo vietos iki vietos projekto paraiškos pateikimo dienos | D25: Vietos projekto įgyvendinimo ir kontrolės laikotarpiais turi būti išlaikytos naujos (vietos projekto įgyvendinimo metu sukurtos) darbo vietos ir darbo vietos, kurios buvo sukurtos per vienus metus iki vietos projekto paraiškos pateikimo dienos | E25: etatai
A26: 8.2.5 | C26: Dalyvių / galutinių naudos gavėjų skaičius | D26: Projekto dalyvių / galutinių naudos gavėjų skaičius | E26: vnt.
A27: 8.2.6 | C27: Unikalių dalyvių skaičius | D27: Projekte dalyvaujančių asmenų unikalių dalyvių skaičius | E27: vnt.
A28: 8.2.7 | C28: Mokymų (išskyrus mokymus, nurodytus pagal R.3 rodiklį)) skaičius | D28: Projekto metu vykdomų mokymų skaičius | E28: vnt.
A29: 8.2.8 | C29: Renginių skaičius | D29: Projekto metu vykdomų renginių skaičius | E29: vnt.
A30: 8.2.9 | C30: Sukurtų naujų produktų skaičius | D30: Projekto metu sukurtų produktų skaičius | E30: vnt.
B31: VPS priemonės rodikliai (vietos projekto pobūdis) | G31: Atitikties rodikliui pagrindimas
C32: Projektas yra skirtas jaunimui
C33: Projektas susijęs su VPS tema
C34: Projektas kuria inovacijas
B35: L801 | C35: Projektas, susiję su žinių perdavimu, įskaitant konsultacijas, mokymą ir keitimąsi žiniomis apie tvarią, ekonominę, socialinę, aplinką ir klimatą tausojančią veiklą (aktualu rodikliui L801)
B36: L802 | C36: Projektas, susijęs su gamintojų organizacijomis, vietinėmis rinkomis, trumpomis tiekimo grandinėmis ir kokybės schemomis, įskaitant paramą investicijoms, rinkodaros veiklą ir kt. (aktualu rodikliui L802)
B37: L803 | C37: Projektas, susijęs su atsinaujinančios energijos gamybos pajėgumais, įskaitant biologinę (aktualu rodikliui L803)
B38: L804 | C38: Projektas prisideda prie aplinkos tvarumo, klimato kaitos švelninimo bei prisitaikymo prie jos tikslų įgyvendinimo kaimo vietovėse (aktualu rodikliui L804)
B39: L805 | C39: Projektas, kurie kuria darbo vietas (aktualu rodikliui L805)
B40: L806 | C40: Projektas yra kaimo verslo, įskaitant bioekonomiką, projektas (aktualu rodikliui L806)
B41: L807 | C41: Projektas, susiję su sumanių kaimų strategijomis (aktualu rodikliui L807)
B42: L808 | C42: Projektu yra gerinamas paslaugų prieinamumas ir infrastruktūra (aktualu rodikliui L808)
B43: L809 | C43: Remiamas projektas yra socialinės įtraukties projektas (aktualu rodikliui L809)

Sheet 9l_TS
A2: 9. | B2: PAREIŠKĖJUI IR VIETOS PROJEKTUI TAIKOMOS TINKAMUMO SĄLYGOS
A3: Eil. Nr. | B3: Pavadinimas | C3: Taip / Ne / N/a | D3: Pagrindimas
A4: 9.1 | B4: Ar pareiškėjas neturi nė vieno nepabaigto įgyvendinti projekto arba įgyvendina leidžiamą projektų kiekį KPP ir SP lygmeniu kaip numatyta Taisyklių 10.2 papunktyje? Salyga netaikoma savivaldybių administracijoms ir kitoms biudžetinėms įstaigoms.
A5: 9.2 | B5: Ar pareiškėjas per paskutinius du metus (skaičiuojama nuo galutinio sprendimo dėl pažeidimo padarymo priėmimo dienos) nėra padaręs pažeidimo, susijusio su EŽŪFKP paramos, skirtos 2014–2020 metų finansavimu, panaudojimu ar siekiu panaudoti, apie kurį teisės aktų nustatyta tvarka buvo pranešta Europos Komisijai?
A6: 9.3 | B6: Ar pareiškėjas veikia sąžiningai, kaip numatyta Taisyklių 10.6 papunktyje?
A7: 9.4 | B7: Ar pareiškėjas neturi finansinių sunkumų (pareiškėjas bankrutuoja arba yra likviduojamas)?
A8: 9.5 | B8: Koks projekto inovatyvumo lygis pagal Projektų inovatyvumo vertinimo metodiką, patvirtintą Lietuvos Respublikos žemės ūkio ministro 2023 m. kovo 14 d. įsakymu Nr. 3D-181 „Dėl Projektų inovatyvumo vertinimo metodikos patvirtinimo“ ? Taikomas, kai pagal VPS priemonę ir (arba) pareiškėjas nusimato diegti inovacijas vietos lygiu. Inovatyvumo lygiui nustayti turi būti užpildytas lapas "9l-1_inovatyvumas"
A9: 9.6 | B9: Ar pareiškėjas atitinka labai mažos, mažos arba vidutinės įmonės sąlygas, nustatytas Lietuvos Respublikos smulkiojo ir vidutinio verslo plėtros įstatyme? Taikoma, kai vietos projektas yra privataus, bendruomeninio ar socialinio verslo pobūdžio. Kartu su paraiška turi būti pateikta užpildyta Smulkiojo ar vidutinio verslo subjekto statuso deklaracija.
A10: 9.7 | B10: Ar pareiškėjas tvarko buhalterinę apskaitą kaip numatyta Administravimo taisyklėse?
A11: 9.8 | B11: Ar pareiškėjas neturi įsiskolinimų Lietuvos Respublikos valstybės biudžetui ir Valstybinio socialinio draudimo fondo biudžetui?
A12: 9.9 | B12: Ar pareiškėjas vadovaujantis ES teisės aktais ir žemės ūkio ministro tvirtinama dirbtinai sukurtų sąlygų gauti paramą nustatymo metodika, nesukūrė dirbtinių sąlygų paramai gauti?
A13: 9.10 | B13: Ar pareiškėjas užtikrina, kad vietos projekte numatytos išlaidos nebuvo, nėra ir nebus finansuojami iš kitų ES fondų ir kitų viešųjų lėšų?
A14: 9.11 | B14: Ar vietos projekte numatyta veikla bus vykdoma VVG teritorijoje, kaip numatyta Taisyklių 20.5 papunktyje?
A15: 9.12 | B15: Ar vietos projekto turinys nėra susijęs su Taisyklių 22 punkte numatytomis veiklos sritimis?
... A43: 9.35.5 | B43: Kitos unikalios teritorinės vertybės (pvz., socialinės, gamtinės, aplinkosauginės)

Sheet 9l-1_inovatyvumas
A2: 9.1. | B2: INOVATYVUMAS
B3: Paslaugos inovacija – keičianti naudotojų būseną nemateriali veikla, kuri kuriama ir naudojama tuo pat metu (pvz.: aptarnavimo, remonto ar gamybos paslaugos kitiems gamintojams, buitinės paslaugos asmenims ar tobulinimo, mokymo, konsultavimo ir pan. paslaugos) ir kuri reikšmingai skiriasi nuo anksčiau šio veiklos subjekto teiktų paslaugų.
B4: Prekės inovacija – naujų savybių ir (arba) naują paskirtį turintis materialusis objektas ar tam tikras intelektinis produktas, kurie turi ar gali turėti paklausą ir kuriems gali būti nustatytos nuosavybės teisės.
B5: Produkto inovacija – naujų savybių ir (arba) naują paskirtį turinti prekė ar paslauga, kurios reikšmingai skiriasi nuo ankstesnių veiklos subjekto prekių ar paslaugų ir kurios yra pateiktos rinkai.
B6: Proceso inovacija – naujas arba patobulintas vienai ar kelioms veiklos funkcijoms skirtas procesas, reikšmingai besiskiriantis nuo ankstesnių subjekto naudotų veiklos procesų.
B7: Socialinė inovacija – naujų socialinių idėjų vystymas, veikiančių novatoriškų metodų ir praktikų iš kitų sektorių perkėlimas ir įgyvendinimas (produktai, paslaugos, mechanizmai), siekiant patenkinti socialinius poreikius, spręsti įsisenėjusias socialines bei aplinkosaugines problemas bei kurti naujus socialinius ryšius ir skatinti bendradarbiavimą
B9: 1. Naujumas
B10: Požymiai | E10: Apibūdinimas | H10: Informacijos šaltiniai | J10: Suteikiami balai | K10: Suteikti balai projektui | L10: Pagrindimas
B11: Naujumas rinkoje, taikant principą, kad inovacija įgyvendinus projektą turi būti įdiegta ir reikšmingai skirtis nuo ankstesnių subjekto produktų ar siūlytų ir naudotų procesų, ir tai nėra įprastas pakeitimas ar atnaujinimas. | E11: Įdiegtas produktas laikomas įvestu į rinką, kai jis tampa prieinamas naudoti numatytiesiems naudotojams. Procesas laikomas pristatytu rinkai, kai jį pirmą kartą pradedama faktiškai naudoti subjekto veikloje. Vertinant diegiamų produktų ar procesų pokyčio reikšmingumą atsižvelgiama, kad diegiamas produktas ar procesas pasižymėtų viena ar keletu naujų savybių ir (arba) nauja paskirtimi, kurios reikšmingai skiriasi nuo subjekto anksčiau siūlytų ar naudotų produktų savybių (apima kokybę, technines specifikacijas, patikimumą, konkurencinį pranašumą, patvarumą, ekonominį veiksmingumą naudojimo metu, patogumą, naudojimo galimybes ir palankumą naudotojui ir kt.) arba procesų savybių (pvz., efektyvumas, išteklių naudojimo efektyvumas, patikimumas ir atsparumas, patogumas ir naudojimo galimybės ir pan.). „Reikšmingo“ skirtumo sąvoka neapima smulkių pakeitimų ar pagerinimų, kai diegiamas produktas ar procesas nepasižymi naujomis savybėmis ir (arba) nauja paskirtimi. | H11: 1. Patvirtinimas, kad ne mažiau kaip 50 proc. projekto tinkamų finansuoti išlaidų vertės atitiks kriterijaus požymį. 2. Patvirtinimas, kad inovacija bus įdiegta per projekto įgyvendinimo laikotarpį ir visiškai atitiks planuojamus požymius iki kontrolės laikotarpio pabaigos. 3. Pagrindimas, kad naujumas subjektui nebus smulkus pakeitimas. Pagrindimui nurodyti reikšmingus skirtumus, kurie gali būti kiekybiškai ar kokybiškai apibūdinti, lyginant tarp esamų rinkoje ar naudojamų ir diegiamų produktų, įrangos ar technologijų su nuoroda į informacijos šaltinį. Informacijos šaltiniai: gamintojo techninės specifikacijos, alternatyvų, bandymų, įgyvendintų EIP arba demonstracinių / sklaidos projektų vieši rezultatų šaltiniai, bendradarbiavimo su mokslo institucija (sutarties pagrindu) gauti rezultatai, mokslo institucijų išvados, rekomendacijos ar kiti. Informacijos šaltiniai turėtų būti ne senesni nei 3 metai iki paraiškos pateikimo dienos. Nesant informacijos šaltinio, pateikiama pareiškėjo rinkos apžvalga, kurioje aprašomi rinkoje esami produktai ar technologijos, pagal savo paskirtį ir funkcijas atitinkantys projekte diegiamus, ir aprašomi projekte diegiami produktai ar technologijos, pažymint bent vieną ar keletą savybių, kurios diegiamuose produktuose ar technologijose reikšmingai skiriasi nuo rinkoje esamų. | J11: 5 balai – naujumas atitinka nurodytą požymį. 0 balų – nėra atitikties pagal nurodytą požymį.
B12: 2. Teigiamas poveikis aplinkai ir klimatui
B13: Požymiai | E13: Apibūdinimas | H13: Informacijos šaltiniai | J13: Suteikiami balai | K13: Suteikti balai projektui | L13: Pagrindimas
B14: 1. dirvožemio kokybės gerinimas (erozijos mažinimas, humusingumo išsaugojimas, rūgštingumo reguliavimas, užterštumo sunkiaisiais metalais ir pan.) ir darnus maisto medžiagų valdymas (maistingųjų medžiagų balanso dirvožemyje palaikymas, jų išplovimo į vandens telkinius mažinimas ir pan.), išleidžiamo vandens ir pramoninių tvenkinių kokybės gerinimas; | E14: Inovacijos teigiamas poveikis aplinkai vertinamas kompleksiškai, atskirai įvertinant, ar inovacija daro įtaką ir prisideda prie dirvožemio, oro, vandens kokybės pagerinimo, maisto medžiagų išplovimų iš dirvožemio mažinimo, tausaus vandens naudojimo gerinimo, atliekų perdirbimo, gyvūnų gerovės ir sveikatingumo didinimo. Inovacijos poveikis klimato pokyčiui švelninti vertinamas ŠESD emisijų mažinimo požiūriu, žaliosios energijos iš žemės ir miško šaltinių bei energijos efektyvumo požiūriais. Poveikio dydis nevertinamas. | H14: Informacija pateikiama verslo plane ir (ar) paraiškoje: 1. patvirtinimas, kad projekto investicijos atitiks vieną ar kelis šio kriterijaus požymius, nurodant kuriuos (atitiktis požymiui įskaitoma, jeigu diegiamos priemonės turi įtakos bent vienam jame išvardytam elementui), iki kontrolės laikotarpio pabaigos. 2. pateikiamas pagrindimas, kaip projektas atitiks tam tikrus šio kriterijaus požymius, įskaitant atskirus jų elementus, paraiškoje trumpai nurodant, kokios diegiamos priemonės darys teigiamą poveikį. | J14: 1 balas – atitinka pagal vieną požymį; 2 balai – atitinka pagal du požymius; 3 balai – atitinka pagal tris požymius; 4 balai – atitinka pagal keturis požymius; 5 balai – atitinka pagal penkis ar daugiau požymių; 0 balų – neatitinka nei vieno požymio.
B15: 2. vandens kokybės apsauga (vandens telkinių, uždarų apytakinių sistemų geros aplinkosauginės būklės palaikymas), tausus vandens naudojimas (uždarų apytakinių sistemų naudojimo tikslams, drėkinimo tikslams, gyvulių girdymui, vykdant veiklą pramonės sektoriuje ir pan.) bei vandens atsargų dirvožemyje sukaupimas (pvz., išmaniąja drenažo sistema ar kt.);
B16: 3. oro kokybės gerinimas (kietųjų dalelių, angies monoksido, sieros dioksido, azoto dioksido mažinimas naudojant atsinaujinančius energetinius šaltinius, taupant energiją, naudojant mažiau karšto vandens, rūšiuojant atliekas ar pan.);
B17: 4. klimato kaitos švelninimas (ŠESD emisijų mažinimas mažinant kuro deginimą, energijos naudojimą, diegiant mėšlo ir srutų tvarkymo sistemas, mažinant organinių ir sintetinių trąšų naudojimą, kaupiant anglies dioksidą dirvožemyje, biomasėje, durpynuose, miškuose ir pan.);
B18: 5. žaliosios energijos didinimas bei energijos vartojimo efektyvumo didinimas (taupymas) atnaujinant ar diegiant naujas technologijas;
B19: 6. beatliekių ir mažų atliekų technologijų taikymas (apima veiklas, kuriomis pereinama prie tvarių, sveikų, efektyviai išteklius naudojančių, žiediškumo principais grįstų ir integracinių maisto ir ūkininkavimo sistemų, investicijos mažina atliekų susidarymą, jų pakartotinį panaudojimą, perdirbamų pakuočių naudojimą ir pan.);
B20: 7. gyvūnų gerovę ir sveikatingumą skatinančių technologijų taikymas (auginimo intensyvumo mažinimas, auginimas be antibiotikų, perėjimas prie gyvūnų laisvo laikymo ir pan.).
B21: 3. Skaitmeninimas
B22: Požymiai | E22: Apibūdinimas | H22: Informacijos šaltiniai | J22: Suteikiami balai | K22: Suteikti balai projektui | L22: Pagrindimas
B23: 1. Palydovinių sistemų panaudojimas (apima Globalios esamos vietos padėties nustatymo sistemos GPS diegimo projektus, kai žemės ūkio sektoriuje naudojantis palydovų duomenimis vykdoma tikslioji žemdirbystė: sėjama, tręšiami laukai bei purškiami pasėliai, nuimamas derlius ir kita); | E23: Skaitmeninimas kaip inovatyvumo vertinimo kriterijus atspindi, kiek projektu diegiamomis skaitmeninėmis technologijomis būtų generuojami ir integruojami duomenys, kurių pagrindu galėtų būti priimami sprendimai. | H23: Informacija pateikiama verslo plane ir (ar) paraiškoje: 1. patvirtinimas, kad skaitmeninės technologijos (nurodant kurios) bus įdiegtos per projekto įgyvendinimo laikotarpį; 2. pateikiamas aprašymas, kokie konkretūs duomenys būtų generuojami įdiegus nurodytas skaitmenines technologijas ir kokiems tikslams jie galėtų būti naudojami; 3. patvirtinimas, kad tam tikri įdiegtomis skaitmeninėmis technologijomis generuojami duomenys bus teikiami valstybės informaciniams ištekliams, siekiant juos integruoti ir panaudoti administraciniais tikslais (duomenų teikimas viešoms platformoms, registrams ir pan.). | J23: 3 balai – jei diegiamomis išvardytomis skaitmeninėmis technologijomis generuojami duomenys kaupiami subjekto (ūkio, įmonės, organizacijos) lygmeniu; 5 balai – jei diegiamomis išvardytomis skaitmeninėmis technologijomis generuojami duomenys laikantis Bendrojo duomenų apsaugos reglamento reikalavimų, teikiami valstybės informaciniams ištekliams, siekiant juos panaudoti administraciniais tikslais; 0 balų – jei nėra diegiama nei viena iš išvardytų skaitmeninių technologijų.
B24: 2. Daiktų internetas (apima investicijas į tinklą, išmaniuosius prietaisus, jutiklius, valdiklius, kitą fizinę ir programinę įrangą, sujungiančią fizinius objektus tarpusavyje ir leidžiančią procesus valdyti virtualiai. Apima tiek žuvininkystės, augalininkystės, tiek gyvulių auginimo, šėrimo, melžimo procesus, tiek visas kitas su pirmine gamyba, logistika, perdirbimu, rinkodara ir pan. susijusias veiklas);
B25: 3. Blokų grandinės technologija (apima projektus, kai ji diegiama kaip potenciali ateities technologija, naudojama ir žemės ūkyje, kai reikalingas patogus ir skaidrus virtualių duomenų ar duomenų blokų valdymas pasitikėjimo pagrindu (technologija leidžia subjektams kontaktuoti tiesiogiai, be trečiųjų šalių, o naudojant specialią kriptografiją sukurta tarsi skaitmeninė „buhalterijos knyga“, kurioje esančius mokėjimus ar mainus gali matyti visi prisijungusieji, o kad pervedimas būtų sėkmingas, visi į tokį tinklą sujungti kompiuteriai turi jį patvirtinti);
B26: 4. Automatizavimas ir robotika (apima projektus, kuriuose diegiami ir naudojami automatizavimo ir (ar) robotikos sprendimai procesams modernizuoti);
B27: 5. Debesų kompiuterija ir dideli duomenys (apima projektus, kurių įgyvendinimo metu diegiama, taikoma ar perkama Debesų kompiuterija – kompiuterinė paslauga, teikiama pagal pareikalavimą, naudojant kompiuterinius išteklius, išsklaidytus internete. Taip pat apima projektus, kuriuose naudojami dideli duomenys kaip didžiulis kompiuterių duomenų rinkinys, įskaitant struktūrizuotus, nestruktūruotus, pusiau struktūrizuotus duomenis, kurių negalima apdoroti tradiciniais algoritmais ir metodais);
B28: 6. Valdymo sistemos (apima projektus, kai diegiama programinė įranga, skirta kompiuterizuoti įmonės valdymą, galinti apimti ir integruotis į visus įmonės verslo procesus, naudojama apskaitos tvarkymo palengvinimui, efektyviam visų resursų išnaudojimui, kontaktų valdymui, efektyviam tiekimo grandinės veikimui užtikrinti, analitinės įmonės veiklos ataskaitų sudarymui ir pan.);
B29: 7. Dirbtinis intelektas (apima įvairius projektus, kuriuose dirbtinis intelektas gali būti naudojamas užtikrinti sveikesnį maistą mažinant trąšų, pesticidų, herbicidų ir drėkinimo naudojimą bei taip sumažinti poveikį aplinkai, kai piktžolės, augalai, augimo sąlygos atpažįstamos lauke, o dirbtinio intelekto sprendimai transformuojami į tinkamus veiksmus pagal užprogramuojamą tikslą. Taip pat naudojama gyvūnų judėjimui, temperatūrai ir pašarų vartojimui stebėti, produktų perdirbimo procesuose ir pan.).
B30: 4. Teigiamas poveikis socialinei ekonomikai
B31: Požymiai | E31: Apibūdinimas | H31: Informacijos šaltiniai | K31: Taip/Ne | L31: Pagrindimas
B32: Projekto teigiamas poveikis socialinei ekonomikai vertinamas kompleksiškai, atskirai vertinant, ar kuriamas teigiamas pokytis kultūros, švietimo, užimtumo, sveikatos srityse, ar numatytos ir įgyvendintos inovatyvios prevencinės priemonės įvairiose srityse. | E32: Inovacijos poveikis socialinėje ekonomikoje vertinamas pagal individualius rodiklių ir jų apskaičiavimo, pokyčių įvertinimo metodikų rinkinius, kurie iš anksto (paramos paraiškoje) numatomi pagal Socialinio verslo poveikio matavimo skaičiuoklę, tvirtinamą žemės ūkio ministro įsakymu. | H32: Informacija pateikiama paramos paraiškoje ir (ar) verslo plane, užpildant Socialinio poveikio matavimo skaičiuoklę ir pasirenkant ar nurodant konkrečių pasiekimų rodiklių planuojamus pokyčius bei jų apskaičiavimo, matavimo metodikas.
B34: Projektų inovatyvumo vertinimas | C34: Kriterijai | I34: Svorio vnt. dalių suma =1.00 kontrolė | J34: Maksimali svorio balų suma Smax | K34: Suteikta svorio balų suma S | M34: Suteikta svorio balų dalis S /Smax ,% | N34: Inovatyvumo lygis
C35: Naujumas | E35: Teigiamas poveikis aplinkai ir klimatui | G35: Skaitmeninimas | L35: Apibendrintas įvertinimas
C36: Balas (0-5) | D36: Svoris, vnt | E36: Balas (0-5) | F36: Svoris, vnt. | G36: Balas (0-5) | H36: Svoris, vnt.
C37: =+K11 -> 0 | D37: 0.5 | E37: =+K14 -> 0 | F37: 0.3 | G37: =+K23 -> 0 | H37: 0.2 | I37: =D37+F37+H37 -> 1 | J37: =5*D37+5*F37+5*H37 -> 5 | K37: =(C37*D37+E37*F37+G37*H37) -> 0 | M37: =IF(OR(C37<>"",E37<>"",G37<>""),K37/J37,"") -> 0 | N37: =IF(M37<>"",IF(M37>0.75,"I inovatyvumo lygis",IF(M37>0.5,"II inovatyvumo lygis",IF(M37>0.3,"III inovatyvumo lygis",IF(M37<=0.3,"IV inovatyvumo lygis")))),"V inovatyvumo lygis") -> IV inovatyvumo lygis | P37: !! tikrinti formules
B38: Inovatyvumo lygiai:
B39: I lygis – išskirtinai inovatyvus projektas, kai vertinimo metu surenkama daugiau nei 75 proc. maksimalios svorio balų sumos;
B40: II lygis – reikšmingai inovatyvus projektas, kai vertinimo metu surenkama daugiau nei 50 iki 75 proc. imtinai maksimalios svorio balų sumos;
B41: III lygis – vidutiniškai inovatyvus projektas, kai vertinimo metu surenkama daugiau nei 30 iki 50 proc. imtinai maksimalios svorio balų sumos;
B42: IV lygis – nereikšmingai inovatyvus projektas, kai vertinimo metu surenkama iki 30 proc. imtinai maksimalios svorio balų sumos;
B43: V lygis – neinovatyvus projektas, kai vertinimo metu inovatyvumo kriterijų atrankos balai nebuvo suteikti.

Sheet 10l_ĮS
A2: 10. | B2: PAREIŠKĖJO ĮSIPAREIGOJIMAI
A3: Eil. Nr. | B3: Pavadinimas | C3: Taip / Ne / N/a
A4: 10.1 | B4: Ar įsipareigojate iki vietos projekto kontrolės laikotarpio pabaigos nenutraukti ar neperkelti gamybinės veiklos už VVG teritorijos ribų?
A5: 10.2 | B5: Ar įsipareigojate nepakeisti infrastruktūros objekto ar jo dalies nuosavybės teisių, neparduoti ir kitaip neperleisti kitam asmeniui, neperduoti (nuoma, panauda ir kt.), be Agentūros sutikimo neįkeisti už paramos lėšas įgyto turto nuo paramos sutarties sudarymo datos iki projekto kontrolės laikotarpio pabaigos?
A6: 10.3 | B6: Ar įsipareigojate nepakeisti veiklos pobūdžio, tikslų ar įgyvendinimo sąlygų nuo paramos sutarties sudarymo datos iki projekto kontrolės laikotarpio pabaigos, kai tokie veiksmai pakenkia pradiniams projekto tikslams?
A7: 10.4 | B7: Ar įsipareigojate tvarkyti buhalterinę apskaitą pagal Lietuvos Respublikos teisės aktų reikalavimus visą projekto įgyvendinimo ir kontrolės laikotarpį?
A8: 10.5 | B8: Ar įsipareigojate įvykus įvykiui, kurio metu buvo sugadintas ar sunaikintas paramos lėšomis įsigytas ar sukurtas turtas, paramos gavėjas įsipareigoja atkurti apdraustą ir neapdraustą turtą ne mažesne negu atkuriamąja verte ir ne blogesnių techninių parametrų?
A9: 10.6 | B9: Ar įsipareigojate sudaryti sąlygas asmenims, turintiems teisę audituoti ir (arba) kontroliuoti, tikrinti, kaip yra vykdoma veikla, laikomasi sąlygų, už ką buvo skirta parama, kaip yra vykdomas projektas ir (arba), kaip vykdoma veikla po lėšų projektui įgyvendinti skyrimo ir (arba) iki projekto kontrolės laikotarpio pabaigos?
A10: 10.7 | B10: Ar įsipareigojate, kad išperkamąja (finansine) nuoma įsigytas turtas turi tapti paramos gavėjo nuosavybe iki projekto įgyvendinimo pabaigos? Įsigyjamojo turto dalis, pagal finansinės išperkamosios nuomos sutartį, neapmokėta iki projekto įgyvendinimo pabaigos, paramos lėšomis nefinansuojama. Taikoma, kai investicijos įsigyjamos išperkamąja (finansine) nuoma.
A11: 10.8 | B11: Ar įsipareigojate, nuo paramos paraiškos pateikimo dienos iki projekto kontrolės laikotarpio pabaigos užtikrinti, kad su projektu susijusių buhalterinių operacijų įrašai būtų atskiriami nuo kitų, įprastinių paramos gavėjo operacijų?
A12: 10.9 | B12: Ar įsipareigojate, kad projekte numatytos išlaidos, nebuvo, nėra ir nebus finansuojamos iš kitų ES fondų ir kitų viešųjų lėšų?
A13: 10.10 | B13: Ar įsipareigojate įsigyti (visiškai apmokėti, pristatyti į projekto įgyvendinimo vietą, įregistruoti viešuosiuose registruose (jei registracija privaloma)) bei naudoti projekte numatytai veiklai vykdyti visas projekte numatytas investicijas?
A14: 10.11 | B14: Ar įsipareigojate investicijas įsigyti ne iš susijusių asmenų?
A15: 10.12 | B15: Ar įsipareigojate užbaigus statybos darbus, ne vėliau kaip iki galutinio mokėjimo prašymo pateikimo dienos statybos užbaigimo dokumentus teisės aktų nustatyta tvarka registruoti informacinėje sistemoje „Infostatyba“, Jei statybos užbaigimo dokumentų informacinėje sistemoje „Infostatyba“ pateikti neprivaloma, statybos užbaigimo dokumentai turi būti pateikti Agentūrai ne vėliau kaip su galutiniu mokėjimo prašymu? Taikoma, kai projekte numatyti statybos darbai.
... A31: 10.28 | B31: Ar vykdomame projekte (steigėjo ar dalyvio teisėmis) dalyvauja savivaldybių ar valstybės institucijos, nepažeisdamos Lietuvos Respublikos nevyriausiybinių organizacijų plėtros įstatymo nuostatų?

Sheet 11l_PD
A2: 11. | B2: PATEIKIAMI DOKUMENTAI
A3: Eil. Nr. | B3: Dokumento pavadinimas | C3: Pažymėti "Taip"/ "Ne"
A4: 11.1 | B4: Verslo planas
A5: 11.2 | B5: Komerciniai pasiūlymai ir(ar) kiti dokuemntai pagrindžiantys investicijas ir jų kainų pasirinkimus
A6: 11.3 | B6: SVV deklaracija
A7: 11.4 | B7: "Vienos" įmonės deklaracija
A8: 11.5 | B8: Finansinės ataskaitos (kartu su paramos paraiška pareiškėjas pateikia patvirtintus ataskaitinių ir (arba) praėjusių ataskaitinių metų finansinių ataskaitų dokumentus, o nauji ūkio subjektai pateikia ūkinės veiklos pradžios balansą. Jeigu pareiškėjas yra įmonė, kuri pagal Lietuvos Respublikos teisės aktus privalo atlikti auditą, jis turi pateikti audituotas finansines ataskaitas ir audito išvadą už ataskaitinius ir (ar) praeitus ataskaitinius metus. Jeigu finansinės atskaitomybės dokumentai teisės aktų nustatyta tvarka pateikti valstybės informaciniuose ištekliuose, Mokėjimo agentūrai jų pateikti nereikia)
A9: 11.6
A10: 11.7 | B10: Dokumentai, pagrindžiantys projekto inovatyvumą
A11: 11.8 | B11: Įgaliojimas teikti vietos projekto paraišką (taikoma tuo atveju, jeigu paraišką teikia ne pareiškėjo – juridinio asmens – vadovas (kai pareiškėjas yra juridinis asmuo) arba ne pareiškėjas pats (kai pareiškėjas yra fizinis asmuo), bet įgaliotas asmuo. Tokiu atveju turi būti pateiktas tinkamas įgaliojimas. Juridinio asmens įgaliojimas laikomas tinkamu, jeigu jis pasirašytas juridinio asmens vadovo ir ant jo uždėtas to juridinio asmens antspaudas, jeigu jis antspaudą privalo turėti. Fizinio asmens įgaliojimas laikomas tinkamu, jeigu jis patvirtintas notaro. Įgaliojime turi būti nurodytas asmuo, turintis teisę pateikti (ir pasirašyti, jei taikoma) vietos projekto paraišką, įgaliojimo galiojimo terminas)
A12: 11.9 | B12: Valstybinio socialinio draudimo fondo valdybos prie Lietuvos Respublikos socialinės apsaugos ir darbo ministerijos pažyma apie pareiškėjo atsiskaitymą su valstybės socialinio draudimo fondu
A13: 11.10 | B13: Valstybinės mokesčių inspekcijos prie Lietuvos Respublikos finansų ministerijos pažyma apie pareiškėjo atsiskaitymą su LR valstybės biudžetu
A14: 11.11 | B14: Įstatai
A15: 11.12 | B15: VĮ Registrų centro išrašas
A16: 11.13 | B16: Jungtinė veiklos sutartis (kai paraiška teikiama su partneriu)
A17: 11.14 | B17: Jei finansavimo šaltinis - skolintos lėšos: finansų įmonės arba kredito įstaigos paskolos arba per sutelktinio finansavimo platformos operatorių suteikiamos paskolos arba finansinės nuomos (lizingo) suteikimo galimybės patvirtinimo dokumentai.
A18: 11.15 | B18: Mokymų/renginio programa (taikoma jeigu orojekte yra numatyti mokymai arba renginiai)
A19: 11.16 | B19: Jei finansavimo šaltinis - nuosavos pareiškėjo piniginės lėšos – banko išrašas
A20: 11.17 | B20: Jei finansavimo šaltinis - tinkamo projekto partnerio nuosavos piniginės lėšos – dokumentai, kuriais įrodoma, kad tinkamas projekto partneris turi pakankamai nuosavų lėšų prisidėti prie projekto įgyvendinimo. Įrodymo dokumentai turi būti išduoti arba sukurti patikimo subjekto – finansinių institucijų (bankų, kredito unijų) ir (arba) viešojo juridinio asmens – pareiškėjo partnerio, kurio veikla finansuojama iš Lietuvos Respublikos valstybės ir (arba) savivaldybių biudžetų (šis įsipareigojimas turi būti aiškiai įvardytas jungtinės veiklos sutartyje), ir (arba) sukurti naudojantis finansinių ataskaitų duomenimis.
A21: 11.18 | B21: Jei finansavimo šaltinis - Savivaldybės biudžeto lėšos - savivaldybės raštą, kuriame numatyta galimybė prisidėti prie projekto finansavimo arba savivaldybės tarybos sprendimas skirti lėšas projektui įgyvendinti (Jei su vietos projekto paraiška nepateikiamas savivaldybės tarybos sprendimas skirti lėšas projektui įgyvendinti, jis turi būti pateiktas su pirmu mokėjimo prašymu).
... A24: 11.21 | B24: Jeigu vietos projekte numatytos investicijos pagal Taisyklių 20.11 ir (arba) 20.13 papunkčius, ir pagal numatytų darbų pobūdį turi būti atlikta statinio techninio projekto statybos skaičiuojamosios kainos dalies ekspertizė, su paramos paraiška turi būti pateikti: projektiniai pasiūlymai (aiškinamasis raštas (rašte nurodomas projektuojamų statinių sąrašas (jei projektuojami keli statiniai), pagrindinės charakteristikos (pastato plotas ir pan.), paskirtis, produkcija, gamybos (paslaugų) ar kitos planuojamos ūkinės veiklos programa), sklypo planas su pažymėtais esamais ir projektuojamais statiniais, vaizdinė informacija) su statybos vertės skaičiavimais.

Sheet 12l_D 
A2: 12. | B2: PAREIŠKĖJO DEKLARACIJA
B3: Žymimas atsakymas "Taip", pasirenkant atsakymą, jei su žemiau deklaracijoje pateikta informacija pareiškėjas sutinka. Svarbu! Nepasirinkus atsakymo žaliame lauke, paraiška bus laikoma užpildyta netinkamai!
A5: 12.1 | B5: Patvirtinu, kad:
A6: 12.1.1 | B6: vietos projekto paraiškoje bei prie jos pridedamuose dokumentuose pateikta informacija, mano žiniomis ir įsitikinimu, yra teisinga;
A7: 12.1.2 | B7: prašoma parama yra mažiausia vietos projektui įgyvendinti reikalinga suma;
A8: 12.1.3 | B8: nesu pažeidęs (-usi) ir (arba) juridinis asmuo, kuriam aš atstovauju, nėra pažeidęs jokios kitos sutarties dėl paramos skyrimo iš ES arba Lietuvos Respublikos biudžeto lėšų;
A9: 12.1.4 | B9: dėl teikiamos vietos projekto paraiškos nekyla jokių viešųjų ir privačių interesų konflikto, kaip tai apibrėžia Lietuvos Respublikos viešųjų ir privačių interesų derinimo valstybinėje tarnyboje įstatymas / siekdamas užkirsti kelią galimam viešųjų ir privačių interesų konfliktui vadovavausi Lietuvos Respublikos viešųjų ir privačių interesų derinimo valstybinėje tarnyboje įstatymo 11 str. ir (arba) pateikiau prašymą nušalinti nuo visų buvusių ir nusišalinu nuo būsimų su šio vietos projekto atranka (vietos projektų finansavimo sąlygų nustatymu, vertinimu ir tvirtinimu) susijusių procesų ir sprendimų priėmimo ir Europos Parlamento ir Tarybos reglamente (ES) 2018/1046 dėl Sąjungos bendrajam biudžetui taikomų finansinių taisyklių bei rekomenduojama Europos Komisijos paskelbtose Interesų konfliktų vengimo ir valdymo pagal Finansinį reglamentą gairėse (Komisijos pranešimas (2021/C 121/01);
A10: 12.1.5 | B10: esu susipažinęs su vietos projekto finansavimo sąlygomis, tvarka ir reikalavimais, nustatytais Kvietime, Taisyklėse ir Administravimo taisyklėse, ir juos vykdysiu;
A11: 12.1.6 | B11: vietos projekte numatytos išlaidos, finansuojamos iš Strateginio plano lėšų, nebuvo, nėra ir nebus finansuojamos iš kitų ES fondų ir kitų viešųjų lėšų;
A12: 12.1.7 | B12: mano atstovaujamas juridinis asmuo arba fizinis asmuo yra įvykdęs su mokesčių ir socialinio draudimo įmokų mokėjimu susijusius įsipareigojimus pagal Lietuvos Respublikos teisės aktus (taikoma, kai pareiškėjas – juridinis asmuo) / esu įvykdęs su mokesčių ir socialinio draudimo įmokų mokėjimu susijusius įsipareigojimus pagal Lietuvos Respublikos teisės aktus (taikoma, kai pareiškėjas – fizinis asmuo);
A13: 12.1.8 | B13: Nacionalinei mokėjimo agentūrai prie Žemės ūkio ministerijos (toliau – Agentūra) pateikta atsiskaitomoji sąskaita priklauso man (mano atstovaujamam juridiniam asmeniui) ir prisiimu visą atsakomybę dėl nuostolių, kurie gali atsirasti klaidingai nurodžius banko sąskaitos numerį;
A14: 12.1.9 | B14: mano atstovaujamam juridiniam asmeniui arba fiziniam asmeniui nėra iškelta byla dėl bankroto ar restruktūrizavimo ir jis nėra likviduojamas (taikoma, kai pareiškėjas – juridinis asmuo) / man nėra iškelta byla dėl bankroto (taikoma, kai pareiškėjas – fizinis asmuo);
A15: 12.1.10 | B15: man nežinomos kitos šioje deklaracijoje nenurodytos priežastys, dėl kurių vietos projektas negalėtų būti įgyvendintas arba jo įgyvendinimas būtų atidedamas, arba dėl kurių vietos projektas nebūtų įgyvendinamas vietos projekto paraiškoje nurodytu laikotarpiu;
A16: 12.1.11 | B16: teikti visą informaciją ir duomenis, reikalingus statistikos tikslams ir Strateginio plano įgyvendinimo stebėsenai bei reikalingiems vertinimams atlikti, įskaitant, bet neapsiribojant dalyvavimą stebėsenos ir vertinimo tikslais ŽŪM ar NMA organizuojamose anketinėse apklausose;
... A35: 12.2.13 | B35: mano asmens duomenys tvarkomi šiais asmens duomenų tvarkymo tikslais: asmens, teikiančio paramos paraišką, tapatybės nustatymo tikslais, Europos žemės ūkio fondo kaimo plėtrai ir Lietuvos Respublikos valstybės biudžeto paramos administravimo, mokėjimo ir kontrolės tikslais, paramos stebėsenos ir vertinimo tikslais (įskaitant kvietimą dalyvauti apklausose ar interviu paramos vertinimo tikslais), paramos viešinimo tikslais (teisinis pagrindas – 2021 m. gruodžio 2 d. Europos Parlamento ir Tarybos reglamentas (ES) 2021/2115, kuriuo nustatomos valstybių narių pagal bendrą žemės ūkio politiką rengtinų strateginių planų (BŽŪP strateginių planų), finansuotinų iš Europos žemės ūkio garantijų fondo (EŽŪGF) ir iš Europos žemės ūkio fondo kaimo plėtrai (EŽŪFKP), rėmimo taisyklės ir panaikinami reglamentai (ES) 1305/2013 ir (ES) 1307/2013, su paskutiniais visais pakeitimais, 2021 m. gruodžio 2 d. Europos Parlamento ir Tarybos reglamentas (ES) 2021/2116 dėl bendros žemės ūkio politikos finansavimo, valdymo ir stebėsenos, kuriuo panaikinamas Reglamentas (ES) 1306/2013).
A37: Pastaba. Pasirašydamas paramos paraišką ir prie jos pridedamus dokumentus, pareiškėjas patvirtina, kad visi paramos paraiškoje pateikti duomenys yra teisingi. Pareiškėjo pateikti duomenys bus tvarkomi elektroniniu būdu. Juos kontrolės, priežiūros ir vertinimo tikslais gali panaudoti Agentūra, Ministerija, kitos su EŽŪFKP administravimu susijusios institucijos.

Sheet 13l_SD
A2: 13. | B2: PAREIŠKĖJO SUTUOKTINIO, KITŲ SUSIJUSIŲ SUBJEKTŲ DEKLARACIJA DĖL ASMENS DUOMENŲ TVARKYMO
B3: (pildo ir pasirašo, kaip atskirą paraiškos pridedamą dokumentą, tik pareiškėjo sutuoktinis, artimas giminaitis, kitas susijęs subjektas, kai teikiamas investicinis projektas. Kiekvienas asmuo pildo ir pasirašo atskirai)
B4: Informuoju, kad aš,
B5: esu pareiškėjo
B7: Esu informuotas (-a), kad:
B8: 1. mano asmens duomenys bus naudojami pareiškėjui skiriamos Europos žemės ūkio fondo kaimo plėtrai ir Lietuvos Respublikos valstybės biudžeto paramos administravimo, mokėjimo ir kontrolės tikslais;
B9: 2. duomenų valdytoja yra Mokėjimo agentūra; 3. Mokėjimo agentūra gali tikrinti mano pateiktus duomenis valstybės įmonės Žemės ūkio duomenų centro bei kitų Lietuvos Respublikos valstybės ir ES institucijų viešųjų registrų, informacinėse sistemose ir duomenų bazėse (toliau – Registrai); 4. mano asmens duomenys gali būti perduoti audito ir tyrimų institucijoms siekiant apsaugoti Lietuvos Respublikos ir (arba) ES finansinius interesus ES ir Lietuvos Respublikos teisės aktuose nustatyta tvarka; 5. turiu teisę žinoti apie savo asmens duomenų tvarkymą, susipažinti su tvarkomais savo asmens duomenimis ir kaip jie yra tvarkomi, reikalauti ištaisyti, ištrinti savo asmens duomenis („teisės būti pamirštam“), apriboti savo asmens duomenų tvarkymą, taip pat nesutikti, kad būtų tvarkomi mano asmens duomenys; 6. mano asmens duomenys bus apdorojami ir saugomi paramos priemonių administravimo informacinėse sistemose ir kad Mokėjimo agentūra gaus mano asmens duomenis iš Registrų paramos administravimo klausimais; 7. mano asmens duomenys bus apdorojami ir saugomi iki projekto įgyvendinimo arba kontrolės laikotarpio (kai jis taikomas) pabaigos, vėliau šie duomenys bus archyvuojami ir perduodami valstybės archyvams; 8. mano asmens duomenys bus tvarkomi Europos žemės ūkio fondo kaimo plėtrai ir Lietuvos Respublikos valstybės biudžeto paramos administravimo, mokėjimo ir kontrolės, stebėsenos ir vertinimo tikslais (teisinis pagrindas 2021 m. gruodžio 2 d. Europos Parlamento ir Tarybos reglamentas (ES) 2021/2115, kuriuo nustatomos valstybių narių pagal bendrą žemės ūkio politiką rengtinų strateginių planų (BŽŪP strateginių planų), finansuotinų iš Europos žemės ūkio garantijų fondo (EŽŪGF) ir iš Europos žemės ūkio fondo kaimo plėtrai (EŽŪFKP), rėmimo taisyklės ir panaikinami reglamentai (ES) 1305/2013 ir (ES) 1307/2013, su paskutiniais pakeitimais, padarytais 2022 m. vasario 15 d. Komisijos deleguotuoju reglamentu (ES) 2022/648, 2021 m. gruodžio 2 d. Tarybos reglamentas (ES) 2021/2116 dėl bendros žemės ūkio politikos finansavimo, valdymo ir stebėsenos, kuriuo panaikinamas Reglamentas (ES) 1306/2013). 9. Mokėjimo agentūros tvarkomi mano asmens duomenys (kategorijos) bei detalesnė informacija apie asmens duomenų tvarkymą bus skelbiama Mokėjimo agentūros interneto svetainės www.nma.lt skiltyje „Asmens duomenų apsauga“.

Sheet 14l_KL
A2: 14. | B2: PAREIŠKĖJO KLAUSIMYNAS (statistikos tikslais)
A3: Eil. Nr. | B3: Pavadinimas | C3: Pasirenkamas atsakymas iš galimų variantų | D3: Paaiškinimai
A4: 14.1 | B4: Iš kur Jūs sužinojote apie šį Vietos veiklos grupės (VVG) kvietimą teikti vietos projektų paraiškas?
A5: 14.2 | B5: Ar paraišką finansavimui pagal VPS gauti teikiate pirmą kartą (vertinant nuo 2016 m., t. y. tik vietos projektus, kurie finansuoti pagal 2016-2022 m. vietos plėtros strategiją)?
A6: 14.3 | B6: Ar projektas, kurio paraišką teikiate, turi sąsajų su Jūsų ar kitų projektų vykdytojų anksčiau VVG teritorijoje įgyvendintais projektais? (pavyzdžiui, Jūsų projektas naudos kito projekto rezultatus, Jūsų projektas yra anksčiau įgyvendinto projekto tęsinys ar pan.) Jei atsakymas "Taip", pateikite paaiškinimą
A7: 14.4 | B7: Ar VVG darbuotojai Jus konsultavo bendraisiais ir techniniais vietos projektų paraiškų pildymo klausimais? (pasirenkama iš sąrašo) Jei atsakymas "Taip", pateikite paaiškinimą
A8: 14.5 | B8: Jei Jus konsultavo VVG darbuotojai, kokiu būdu: (pasirenkama iš sąrašo, jei paisrenkama „Kita“ įrašyti paaiškinime
A9: 14.6 | B9: Ar be VVG pagalbos būtumėte parengę ir pateikę šią paraišką finansavimui gauti? (pasirenkama iš sąrašo)
A10: 14.7 | B10: Ar prieš rengdami šią paraišką analizavote galimybes gauti finansavimą projektui įgyvendinti iš kitų finansavimo šaltinių? (pasirenkama iš sąrašo)
A11: 14.8 | B11: Kodėl nusprendėte paraišką teikti pagal VVG paskelbtą kvietimą (o ne kitam finansavimo šaltiniui)? (atviras klausimas, atsakymas teikiamas paaiškinime)
A12: 14.9 | B12: Kiek savo asmeninio laiko skyrėte šios paraiškos ir reikalingų dokumentų parengimui ir pateikimui (informacijos analizei, paraiškos formos pildymui, verslo plano parengimui, kitų reikalingų dokumentų surinkimui ir pan.)? (pasirenkama iš sąrašo)

Sheet Sąrašas
A1: Taip
A2: Ne
A3: N/a
A5: Suma Eur su PVM
A6: Suma Eur be PVM
A8: Sostinės
A9: Vidurio ir vakarų Lietuvos
A11: PVM Tipas | B11: Nr. | C11: =VLOOKUP('[1]6l_FP'!B5,[1]Sąrašai!A12:B13,2,FALSE) -> 2
A12: PVM tinkamos išlaidos | B12: 1
A13: PVM netinkamos išlaidos (verslas, PVM mokėtojas) | B13: 2
A15: PVM proc.
A16: 21
A17: 9
A18: 0
A20: Projekto tipas | B20: Nr. | C20: =VLOOKUP('[1]6l_FP'!B7,[1]Sąrašai!A22:B23,2,FALSE) -> #N/A
A22: Veiklos ir mokymų projektai | B22: 1
A23: Investiciniai projektai (perkamas ilgalaikis turtas) | B23: 2
A26: Išlaidų kompensavimo
A27: Išlaidų kompensavimo su avanso mokėjimu, kai avansas nėra EK tinkamos deklaruoti išlaidos
A28: Sąskaitų apmokėjimo
A30: 3 komercinai pasiūlymai
A31: Įkainiai
A32: Atlikti viešieji pirkimai
A33: Kita (pasirenkama kai naudojami keli būdai, informacija pateikiama L stulpelyje)
A34: Statistikos departamento duomenimis
A35: Nekilnojamojo turto duomenimis
A37: sutuoktinis
A38: artimasis giminaitis
A39: kitas susijęs asmuo
A45: vadovautis sąžiningumo, protingumo, naudos visuomenei siekimo, socialinio jautrumo, visuotinio gėrio principais. | B45: Taip
A46: socialiniam verslui pradėti ar plėtoti suteiktą paramą, įskaitant nereikšmingą (de minimis) pagalbą, naudoti tik teigiamam socialiniam poveikiui siekti ar didinti. | B46: Ne
A47: socialinio verslo pripažinimo fakto (suteikus paramą) nenaudoti nesąžiningai konkurencijai. | B47: N/a
A48: socialinio poveikio matavimo rodikliai yra suprantami ir aiškiai apibūdinti
A50: Kriterijai
A51: Pagal savo įstatus ar kitą įstatymo nustatytą juridinio asmens steigimo dokumentą vykdoma nuolatine ekonomine veikla siekiama pagrindinio tikslo – išmatuojamo teigiamo socialinio poveikio.
A52: Kokia vykdoma ar numatoma vykdyti ekonominė veikla pagal Ekonominės veiklos rūšių klasifikatorių (EVRK2 red.) (gali būti nurodoma daugiau nei viena ekonominės veiklos rūšis), t. y. steigimo dokumentuose negali būti įrašyta, kad juridinis asmuo užsiims visa Lietuvos Respublikos įstatymų nedraudžiama veikla.
A53: Tikslinė (-ės) grupė (-ės);
A54: Socialinio poveikio tikslas (įvardijama socialinė problema, kurią siekiama spręsti);
A55: Pagrindinė (-ės) orientavimosi kryptis (-ys) (kokioje (-iose) srityje (-yse) numatomas socialinis poveikis);
A56: socialinio poveikio pagal KPP priemones galima siekti šiose srityse: užimtumo skatinimo; sveikatos apsaugos; švietimo ir prevencijos įvairiose srityse;
A57: Papildomo (-os) orientavimosi kryptis (-ys) (kokioje (-iose) srityje (-yse) numatomas papildomas socialinis poveikis): pagrindinių ūkio šakų (pvz.: transporto, pramonės, energetikos, žemės ūkio paslaugų, būsto, turizmo ir kt.) poveikio aplinkai mažinimas, efektyvesnis gamtos išteklių naudojimas, atliekų tvarkymas ir pasaulio klimato kaitos ir jos padarinių švelninimas, biologinės įvairovės ir kraštovaizdžio apsauga, gyvūnų globa, kultūra ir visuomenės kūrybingumo skatinimas, kultūros paslaugų prieinamumo plėtojimas, pilietiškumo, patriotiškumo ugdymas, visuomenės švietimas ir informavimas valstybės gynybos klausimais, žmogaus teisiu ir lygių galimybių užtikrinimas ar kt. (aiškiai įvardyti);
A58: Kriterijų sąrašas
A60: Atitinku
A61: Neatitinku
... A217: Daugiau kaip 10 dienų (1 diena yra 8 val.)

Sheet Sąrašai
A1: Taip
A2: Ne
A3: N/a
A5: Suma Eur su PVM
A6: Suma Eur be PVM
A8: Sostinės
A9: Vidurio ir vakarų Lietuvos
A11: PVM Tipas | B11: Nr. | C11: =VLOOKUP('6l_FP'!B5,Sąrašai!A12:B13,2,FALSE) -> 2
A12: PVM tinkamos išlaidos | B12: 1
A13: PVM netinkamos išlaidos (verslas, PVM mokėtojas) | B13: 2
A15: PVM proc.
A17: 21
A18: 9
A19: 5
A20: 0
A22: Projekto tipas | B22: Nr. | C22: =VLOOKUP('6l_FP'!B7,Sąrašai!A24:B25,2,FALSE) -> #N/A
A24: Veiklos ir mokymų projektai | B24: 1
A25: Investiciniai projektai (perkamas ilgalaikis turtas) | B25: 2
A28: Išlaidų kompensavimo
A29: Išlaidų kompensavimo su avanso mokėjimu, kai avansas nėra EK tinkamos deklaruoti išlaidos
A30: Sąskaitų apmokėjimo
A32: 3 komercinai pasiūlymai
A33: Įkainiai
A34: Atlikti viešieji pirkimai
A35: Kita (pasirenkama kai naudojami keli būdai, informacija pateikiama L stulpelyje)
A36: Statistikos departamento duomenimis
A37: Nekilnojamojo turto duomenimis
A39: sutuoktinis
A40: artimasis giminaitis
A41: kitas susijęs asmuo
A47: vadovautis sąžiningumo, protingumo, naudos visuomenei siekimo, socialinio jautrumo, visuotinio gėrio principais. | B47: Taip
A48: socialiniam verslui pradėti ar plėtoti suteiktą paramą, įskaitant nereikšmingą (de minimis) pagalbą, naudoti tik teigiamam socialiniam poveikiui siekti ar didinti. | B48: Ne
A49: socialinio verslo pripažinimo fakto (suteikus paramą) nenaudoti nesąžiningai konkurencijai. | B49: N/a
A50: socialinio poveikio matavimo rodikliai yra suprantami ir aiškiai apibūdinti
A52: Kriterijai
A53: Pagal savo įstatus ar kitą įstatymo nustatytą juridinio asmens steigimo dokumentą vykdoma nuolatine ekonomine veikla siekiama pagrindinio tikslo – išmatuojamo teigiamo socialinio poveikio.
A54: Kokia vykdoma ar numatoma vykdyti ekonominė veikla pagal Ekonominės veiklos rūšių klasifikatorių (EVRK2 red.) (gali būti nurodoma daugiau nei viena ekonominės veiklos rūšis), t. y. steigimo dokumentuose negali būti įrašyta, kad juridinis asmuo užsiims visa Lietuvos Respublikos įstatymų nedraudžiama veikla.
A55: Tikslinė (-ės) grupė (-ės);
A56: Socialinio poveikio tikslas (įvardijama socialinė problema, kurią siekiama spręsti);
A57: Pagrindinė (-ės) orientavimosi kryptis (-ys) (kokioje (-iose) srityje (-yse) numatomas socialinis poveikis);
A58: socialinio poveikio pagal KPP priemones galima siekti šiose srityse: užimtumo skatinimo; sveikatos apsaugos; švietimo ir prevencijos įvairiose srityse;
A59: Papildomo (-os) orientavimosi kryptis (-ys) (kokioje (-iose) srityje (-yse) numatomas papildomas socialinis poveikis): pagrindinių ūkio šakų (pvz.: transporto, pramonės, energetikos, žemės ūkio paslaugų, būsto, turizmo ir kt.) poveikio aplinkai mažinimas, efektyvesnis gamtos išteklių naudojimas, atliekų tvarkymas ir pasaulio klimato kaitos ir jos padarinių švelninimas, biologinės įvairovės ir kraštovaizdžio apsauga, gyvūnų globa, kultūra ir visuomenės kūrybingumo skatinimas, kultūros paslaugų prieinamumo plėtojimas, pilietiškumo, patriotiškumo ugdymas, visuomenės švietimas ir informavimas valstybės gynybos klausimais, žmogaus teisiu ir lygių galimybių užtikrinimas ar kt. (aiškiai įvardyti);
A60: Kriterijų sąrašas
A62: Atitinku
A63: Neatitinku
... A190: Viešųjų paslaugų perdavimo projektas: Pareiškėjas yra NVO, kurio veikla teikia naudą visuomenei bei atitinka Lietuvos Respublikos nevyriausybinių organizacijų plėtros įstatymo 8 straipsnio 2 dalies 1, 2, 4 ir 5 punktuose numatytas sąlygas. Pareiškėjo viešųjų paslaugų perdavimo projekte nurodytos viešosios paslaugos atitinka Lietuvos Respublikos vidaus reikalų ministerijos skelbiamą viešųjų paslaugų sąrašą. Pareiškėjas yra suderinęs su savivaldybe perimamas viešąsias paslaugas (jų dalį) arba informavęs ją apie naujų arba papildomų viešųjų paslaugų teikimą.
